Workbook

Sheet まとめ
A1: 〇まとめ | L1: （留萌市除く）
A2: 振興局 | B2: 所在市町 | C2: 指定管理者名 | D2: 管理戸数 （調査時点） | F2: 満足 | G2: やや満足 | H2: どちらともいえない | I2: やや不満 | J2: 不満 | K2: 満足＋やや満足 | L2: やや不満＋不満
A3: 全道計 | D3: =総計!B6 -> 21510 | E3: 回答数 | F3: =総計!D31 -> 6102 | G3: =総計!E31 -> 4515 | H3: =総計!F31 -> 7931 | I3: =総計!G31 -> 722 | J3: =[1]総計!H31 -> 341 | K3: =F3+G3 -> 10617 | L3: =I3+J3 -> 1063
E4: 割合（％） | F4: =総計!D32 -> 30.7 | G4: =総計!E32 -> 22.7 | H4: =総計!F32 -> 40 | I4: =総計!G32 -> 3.6 | J4: =総計!H32 -> 2.7 | K4: =F4+G4 -> 53.4 | L4: =I4+J4 -> 6.3
A5: 公募地区計 | D5: =SUM(D7:D68) -> 20809 | E5: 回答数 | F5: =公募計!D31 -> 5915 | G5: =公募計!E31 -> 4308 | H5: =公募計!F31 -> 7618 | I5: =公募計!G31 -> 689 | J5: =公募計!H31 -> 531 | K5: =F5+G5 -> 10223 | L5: =I5+J5 -> 1220
E6: 割合（％） | F6: =公募計!D32 -> 31 | G6: =公募計!E32 -> 22.6 | H6: =公募計!F32 -> 39.9 | I6: =公募計!G32 -> 3.6 | J6: =公募計!H32 -> 2.7 | K6: =F6+G6 -> 53.6 | L6: =I6+J6 -> 6.3
A7: 空知 | B7: 岩見沢市 | C7: （株）セキュメント | D7: =[1]岩見沢!B6 -> 572 | E7: 回答数 | F7: =岩見沢!D31 -> 184 | G7: =岩見沢!E31 -> 91 | H7: =岩見沢!F31 -> 138 | I7: =岩見沢!G31 -> 17 | J7: =岩見沢!H31 -> 8 | K7: =F7+G7 -> 275 | L7: =I7+J7 -> 25
E8: 割合（％） | F8: =岩見沢!D32 -> 42 | G8: =岩見沢!E32 -> 20.7 | H8: =岩見沢!F32 -> 31.5 | I8: =岩見沢!G32 -> 3.8 | J8: =岩見沢!H32 -> 1.8 | K8: =F8+G8 -> 62.7 | L8: =I8+J8 -> 5.6
B9: 美唄市 | C9: ｴﾑｴﾑｴｽﾏﾝｼｮﾝﾏﾈｼﾞﾒﾝﾄｻｰﾋﾞｽ（株） | D9: =[1]美唄!B6 -> 209 | E9: 回答数 | F9: =美唄!D31 -> 71 | G9: =美唄!E31 -> 54 | H9: =美唄!F31 -> 45 | I9: =美唄!G31 -> 2 | J9: =美唄!H31 -> 14 | K9: =F9+G9 -> 125 | L9: =I9+J9 -> 16
E10: 割合（％） | F10: =美唄!D32 -> 38.1 | G10: =美唄!E32 -> 29 | H10: =美唄!F32 -> 24.1 | I10: =美唄!G32 -> 1 | J10: =美唄!H32 -> 7.5 | K10: =F10+G10 -> 67.1 | L10: =I10+J10 -> 8.5
B11: 芦別市 | C11: ｴﾑｴﾑｴｽﾏﾝｼｮﾝﾏﾈｼﾞﾒﾝﾄｻｰﾋﾞｽ（株） | D11: =[1]芦別!B6 -> 84 | E11: 回答数 | F11: =芦別!D31 -> 39 | G11: =[1]芦別!E31 -> 23 | H11: =[1]芦別!F31 -> 41 | I11: =[1]芦別!G31 -> 6 | J11: =[1]芦別!H31 -> 7 | K11: =F11+G11 -> 62 | L11: =I11+J11 -> 13
E12: 割合（％） | F12: =[1]芦別!D32 -> 17.2 | G12: =[1]芦別!E32 -> 24.7 | H12: =[1]芦別!F32 -> 44 | I12: =[1]芦別!G32 -> 6.4 | J12: =[1]芦別!H32 -> 7.5 | K12: =F12+G12 -> 41.9 | L12: =I12+J12 -> 13.9
B13: 赤平市 | C13: ｴﾑｴﾑｴｽﾏﾝｼｮﾝﾏﾈｼﾞﾒﾝﾄｻｰﾋﾞｽ（株） | D13: =[1]赤平!B6 -> 152 | E13: 回答数 | F13: =[1]赤平!D31 -> 16 | G13: =[1]赤平!E31 -> 9 | H13: =[1]赤平!F31 -> 14 | I13: =[1]赤平!G31 -> 2 | J13: =[1]赤平!H31 -> 2 | K13: =F13+G13 -> 25 | L13: =I13+J13 -> 4
E14: 割合（％） | F14: =[1]赤平!D32 -> 37.2 | G14: =[1]赤平!E32 -> 20.9 | H14: =[1]赤平!F32 -> 32.5 | I14: =[1]赤平!G32 -> 4.6 | J14: =[1]赤平!H32 -> 4.6 | K14: =F14+G14 -> 58.1 | L14: =I14+J14 -> 9.2
B15: 三笠市 | C15: ｴﾑｴﾑｴｽﾏﾝｼｮﾝﾏﾈｼﾞﾒﾝﾄｻｰﾋﾞｽ（株） | D15: =[1]三笠!B6 -> 16 | E15: 回答数 | F15: =[1]三笠!D31 -> 6 | G15: =[1]三笠!E31 -> 7 | H15: =[1]三笠!F31 -> 32 | I15: =[1]三笠!G31 -> 3 | J15: =[1]三笠!H31 -> 2 | K15: =F15+G15 -> 13 | L15: =I15+J15 -> 5
E16: 割合（％） | F16: =[1]三笠!D32 -> 12 | G16: =[1]三笠!E32 -> 14 | H16: =[1]三笠!F32 -> 64 | I16: =[1]三笠!G32 -> 6 | J16: =[1]三笠!H32 -> 4 | K16: =F16+G16 -> 26 | L16: =I16+J16 -> 10
B17: 滝川市 | C17: ｴﾑｴﾑｴｽﾏﾝｼｮﾝﾏﾈｼﾞﾒﾝﾄｻｰﾋﾞｽ（株） | D17: =[1]滝川!B6 -> 283 | E17: 回答数 | F17: =[1]滝川!D31 -> 43 | G17: =[1]滝川!E31 -> 36 | H17: =[1]滝川!F31 -> 60 | I17: =[1]滝川!G31 -> 6 | J17: =[1]滝川!H31 -> 6 | K17: =F17+G17 -> 79 | L17: =I17+J17 -> 12
E18: 割合（％） | F18: =[1]滝川!D32 -> 28.4 | G18: =[1]滝川!E32 -> 23.8 | H18: =[1]滝川!F32 -> 39.7 | I18: =[1]滝川!G32 -> 3.9 | J18: =[1]滝川!H32 -> 3.9 | K18: =F18+G18 -> 52.2 | L18: =I18+J18 -> 7.8
B19: 砂川市 | C19: ｴﾑｴﾑｴｽﾏﾝｼｮﾝﾏﾈｼﾞﾒﾝﾄｻｰﾋﾞｽ（株） | D19: =[1]砂川!B6 -> 145 | E19: 回答数 | F19: =[1]砂川!D31 -> 39 | G19: =[1]砂川!E31 -> 14 | H19: =[1]砂川!F31 -> 12 | I19: =[1]砂川!G31 -> 0 | J19: =[1]砂川!H31 -> 5 | K19: =F19+G19 -> 53 | L19: =I19+J19 -> 5
E20: 割合（％） | F20: =[1]砂川!D32 -> 55.7 | G20: =[1]砂川!E32 -> 20 | H20: =[1]砂川!F32 -> 17.1 | I20: =[1]砂川!G32 -> 0 | J20: =[1]砂川!H32 -> 7.1 | K20: =F20+G20 -> 75.7 | L20: =I20+J20 -> 7.1
B21: 深川市 | C21: ｴﾑｴﾑｴｽﾏﾝｼｮﾝﾏﾈｼﾞﾒﾝﾄｻｰﾋﾞｽ（株） | D21: =[1]深川!B6 -> 114 | E21: 回答数 | F21: =[1]深川!D31 -> 20 | G21: =[1]深川!E31 -> 14 | H21: =[1]深川!F31 -> 47 | I21: =[1]深川!G31 -> 12 | J21: =[1]深川!H31 -> 2 | K21: =F21+G21 -> 34 | L21: =I21+J21 -> 14
E22: 割合（％） | F22: =[1]深川!D32 -> 21 | G22: =[1]深川!E32 -> 14.7 | H22: =[1]深川!F32 -> 49.4 | I22: =[1]深川!G32 -> 12.6 | J22: =[1]深川!H32 -> 2.1 | K22: =F22+G22 -> 35.7 | L22: =I22+J22 -> 14.7
B23: 沼田町 | C23: ｴﾑｴﾑｴｽﾏﾝｼｮﾝﾏﾈｼﾞﾒﾝﾄｻｰﾋﾞｽ（株） | D23: =[1]沼田!B6 -> 53 | E23: 回答数 | F23: =[1]沼田!D31 -> 44 | G23: =[1]沼田!E31 -> 22 | H23: =[1]沼田!F31 -> 50 | I23: =[1]沼田!G31 -> 7 | J23: =[1]沼田!H31 -> 5 | K23: =F23+G23 -> 66 | L23: =I23+J23 -> 12
E24: 割合（％） | F24: =[1]沼田!D32 -> 34.3 | G24: =[1]沼田!E32 -> 17.1 | H24: =[1]沼田!F32 -> 39 | I24: =[1]沼田!G32 -> 5.4 | J24: =[1]沼田!H32 -> 3.9 | K24: =F24+G24 -> 51.4 | L24: =I24+J24 -> 9.3
A25: 石狩 | B25: 札幌圏 | C25: （一財）北海道住宅管理公社 | D25: =[1]札幌!B6 -> 8052 | E25: 回答数 | F25: =[1]札幌!D31 -> 1048 | G25: =[1]札幌!E31 -> 830 | H25: =[1]札幌!F31 -> 1469 | I25: =[1]札幌!G31 -> 155 | J25: =[1]札幌!H31 -> 106 | K25: =F25+G25 -> 1878 | L25: =I25+J25 -> 261
E26: 割合（％） | F26: =[1]札幌!D32 -> 29 | G26: =[1]札幌!E32 -> 23 | H26: =[1]札幌!F32 -> 40.7 | I26: =[1]札幌!G32 -> 4.2 | J26: =[1]札幌!H32 -> 2.9 | K26: =F26+G26 -> 52 | L26: =I26+J26 -> 7.1
B27: 千歳恵庭圏 | C27: （一財）北海道住宅管理公社 | D27: =[1]千歳恵庭!B6 -> 204 | E27: 回答数 | F27: =[1]千歳恵庭!D31 -> 40 | G27: =[1]千歳恵庭!E31 -> 15 | H27: =[1]千歳恵庭!F31 -> 16 | I27: =[1]千歳恵庭!G31 -> 0 | J27: =[1]千歳恵庭!H31 -> 0 | K27: =F27+G27 -> 55 | L27: =I27+J27 -> 0
E28: 割合（％） | F28: =[1]千歳恵庭!D32 -> 56.3 | G28: =[1]千歳恵庭!E32 -> 21.1 | H28: =[1]千歳恵庭!F32 -> 22.5 | I28: =[1]千歳恵庭!G32 -> 0 | J28: =[1]千歳恵庭!H32 -> 0 | K28: =F28+G28 -> 77.4 | L28: =I28+J28 -> 0
A29: 後志 | B29: 小樽市 | C29: （一財）北海道住宅管理公社 | D29: =[1]小樽!B6 -> 1184 | E29: 回答数 | F29: =[1]小樽!D31 -> 105 | G29: =[1]小樽!E31 -> 80 | H29: =[1]小樽!F31 -> 155 | I29: =[1]小樽!G31 -> 14 | J29: =[1]小樽!H31 -> 17 | K29: =F29+G29 -> 185 | L29: =I29+J29 -> 31
E30: 割合（％） | F30: =[1]小樽!D32 -> 28.3 | G30: =[1]小樽!E32 -> 21.5 | H30: =[1]小樽!F32 -> 41.7 | I30: =[1]小樽!G32 -> 3.7 | J30: =[1]小樽!H32 -> 4.5 | K30: =F30+G30 -> 49.8 | L30: =I30+J30 -> 8.2
B31: 倶知安町 | C31: ｴﾑｴﾑｴｽﾏﾝｼｮﾝﾏﾈｼﾞﾒﾝﾄｻｰﾋﾞｽ（株） | D31: =[1]倶知安!B6 -> 129 | E31: 回答数 | F31: =[1]倶知安!D31 -> 1 | G31: =[1]倶知安!E31 -> 1 | H31: =[1]倶知安!F31 -> 20 | I31: =[1]倶知安!G31 -> 4 | J31: =[1]倶知安!H31 -> 1 | K31: =F31+G31 -> 2 | L31: =I31+J31 -> 5
E32: 割合（％） | F32: =[1]倶知安!D32 -> 3.7 | G32: =[1]倶知安!E32 -> 3.7 | H32: =[1]倶知安!F32 -> 74 | I32: =[1]倶知安!G32 -> 14.8 | J32: =[1]倶知安!H32 -> 3.7 | K32: =F32+G32 -> 7.4 | L32: =I32+J32 -> 18.5
B33: 岩内町 | C33: ｴﾑｴﾑｴｽﾏﾝｼｮﾝﾏﾈｼﾞﾒﾝﾄｻｰﾋﾞｽ（株） | D33: =[1]岩内!B6 -> 124 | E33: 回答数 | F33: =[1]岩内!D31 -> 13 | G33: =[1]岩内!E31 -> 9 | H33: =[1]岩内!F31 -> 36 | I33: =[1]岩内!G31 -> 2 | J33: =[1]岩内!H31 -> 5 | K33: =F33+G33 -> 22 | L33: =I33+J33 -> 7
E34: 割合（％） | F34: =[1]岩内!D32 -> 20 | G34: =[1]岩内!E32 -> 13.8 | H34: =[1]岩内!F32 -> 55.3 | I34: =[1]岩内!G32 -> 3 | J34: =[1]岩内!H32 -> 7.6 | K34: =F34+G34 -> 33.8 | L34: =I34+J34 -> 10.6
B35: 余市町 | C35: ｴﾑｴﾑｴｽﾏﾝｼｮﾝﾏﾈｼﾞﾒﾝﾄｻｰﾋﾞｽ（株） | D35: =[1]余市!B6 -> 17 | E35: 回答数 | F35: =[1]余市!D31 -> 21 | G35: =[1]余市!E31 -> 24 | H35: =[1]余市!F31 -> 42 | I35: =[1]余市!G31 -> 4 | J35: =[1]余市!H31 -> 2 | K35: =F35+G35 -> 45 | L35: =I35+J35 -> 6
E36: 割合（％） | F36: =[1]余市!D32 -> 22.5 | G36: =[1]余市!E32 -> 25.8 | H36: =[1]余市!F32 -> 45.1 | I36: =[1]余市!G32 -> 4.3 | J36: =[1]余市!H32 -> 2.1 | K36: =F36+G36 -> 48.3 | L36: =I36+J36 -> 6.4
A37: 胆振 | B37: 室蘭圏 | C37: （株）日動 | D37: =[1]室蘭!B6 -> 1256 | E37: 回答数 | F37: =[1]室蘭!D31 -> 220 | G37: =[1]室蘭!E31 -> 129 | H37: =[1]室蘭!F31 -> 206 | I37: =[1]室蘭!G31 -> 22 | J37: =[1]室蘭!H31 -> 14 | K37: =F37+G37 -> 349 | L37: =I37+J37 -> 36
E38: 割合（％） | F38: =[1]室蘭!D32 -> 37.2 | G38: =[1]室蘭!E32 -> 21.8 | H38: =[1]室蘭!F32 -> 34.8 | I38: =[1]室蘭!G32 -> 3.7 | J38: =[1]室蘭!H32 -> 2.3 | K38: =F38+G38 -> 59 | L38: =I38+J38 -> 6
B39: 苫小牧市 | C39: ｴﾑｴﾑｴｽﾏﾝｼｮﾝﾏﾈｼﾞﾒﾝﾄｻｰﾋﾞｽ（株） | D39: =[1]苫小牧!B6 -> 833 | E39: 回答数 | F39: =[1]苫小牧!D31 -> 111 | G39: =[1]苫小牧!E31 -> 101 | H39: =[1]苫小牧!F31 -> 165 | I39: =[1]苫小牧!G31 -> 10 | J39: =[1]苫小牧!H31 -> 3 | K39: =F39+G39 -> 212 | L39: =I39+J39 -> 13
E40: 割合（％） | F40: =[1]苫小牧!D32 -> 28.4 | G40: =[1]苫小牧!E32 -> 25.8 | H40: =[1]苫小牧!F32 -> 42.3 | I40: =[1]苫小牧!G32 -> 2.5 | J40: =[1]苫小牧!H32 -> 0.7 | K40: =F40+G40 -> 54.2 | L40: =I40+J40 -> 3.2
A41: 日高 | B41: 浦河町 | C41: ｴﾑｴﾑｴｽﾏﾝｼｮﾝﾏﾈｼﾞﾒﾝﾄｻｰﾋﾞｽ（株） | D41: =[1]浦河!B6 -> 60 | E41: 回答数 | F41: =[1]浦河!D31 -> 13 | G41: =[1]浦河!E31 -> 14 | H41: =[1]浦河!F31 -> 58 | I41: =[1]浦河!G31 -> 1 | J41: =[1]浦河!H31 -> 6 | K41: =F41+G41 -> 27 | L41: =I41+J41 -> 7
E42: 割合（％） | F42: =[1]浦河!D32 -> 14.1 | G42: =[1]浦河!E32 -> 15.2 | H42: =[1]浦河!F32 -> 63 | I42: =[1]浦河!G32 -> 1 | J42: =[1]浦河!H32 -> 6.5 | K42: =F42+G42 -> 29.3 | L42: =I42+J42 -> 7.5
B43: 新ひだか町 | C43: ｴﾑｴﾑｴｽﾏﾝｼｮﾝﾏﾈｼﾞﾒﾝﾄｻｰﾋﾞｽ（株） | D43: =[1]新ひだか!B6 -> 77 | E43: 回答数 | F43: =[1]新ひだか!D31 -> 11 | G43: =[1]新ひだか!E31 -> 4 | H43: =[1]新ひだか!F31 -> 41 | I43: =[1]新ひだか!G31 -> 11 | J43: =[1]新ひだか!H31 -> 19 | K43: =F43+G43 -> 15 | L43: =I43+J43 -> 30
E44: 割合（％） | F44: =[1]新ひだか!D32 -> 12.7 | G44: =[1]新ひだか!E32 -> 4.6 | H44: =[1]新ひだか!F32 -> 47.6 | I44: =[1]新ひだか!G32 -> 12.7 | J44: =[1]新ひだか!H32 -> 22 | K44: =F44+G44 -> 17.3 | L44: =I44+J44 -> 34.7
A45: 渡島 | B45: 函館圏 | C45: （一財）函館市住宅都市施設公社 | D45: =[1]函館!B6 -> 2090 | E45: 回答数 | F45: =[1]函館!D31 -> 345 | G45: =[1]函館!E31 -> 236 | H45: =[1]函館!F31 -> 327 | I45: =[1]函館!G31 -> 19 | J45: =[1]函館!H31 -> 49 | K45: =F45+G45 -> 581 | L45: =I45+J45 -> 68
E46: 割合（％） | F46: =[1]函館!D32 -> 35.3 | G46: =[1]函館!E32 -> 24.1 | H46: =[1]函館!F32 -> 33.5 | I46: =[1]函館!G32 -> 1.9 | J46: =[1]函館!H32 -> 5 | K46: =F46+G46 -> 59.4 | L46: =I46+J46 -> 6.9
A47: 檜山 | B47: 江差町 | C47: 増川建設・ｵｵﾌﾙ建築設計ｺﾝｿｰｼｱﾑ | D47: =[1]江差!B6 -> 108 | E47: 回答数 | F47: =[1]江差!D31 -> 37 | G47: =[1]江差!E31 -> 15 | H47: =[1]江差!F31 -> 34 | I47: =[1]江差!G31 -> 1 | J47: =[1]江差!H31 -> 0 | K47: =F47+G47 -> 52 | L47: =I47+J47 -> 1
E48: 割合（％） | F48: =[1]江差!D32 -> 42.5 | G48: =[1]江差!E32 -> 17.2 | H48: =[1]江差!F32 -> 39 | I48: =[1]江差!G32 -> 1.1 | J48: =[1]江差!H32 -> 0 | K48: =F48+G48 -> 59.7 | L48: =I48+J48 -> 1.1
A49: 上川 | B49: 旭川市 | C49: アライ地所（株） | D49: =[1]旭川!B6 -> 1189 | E49: 回答数 | F49: =[1]旭川!D31 -> 382 | G49: =[1]旭川!E31 -> 152 | H49: =[1]旭川!F31 -> 175 | I49: =[1]旭川!G31 -> 19 | J49: =[1]旭川!H31 -> 17 | K49: =F49+G49 -> 534 | L49: =I49+J49 -> 36
E50: 割合（％） | F50: =[1]旭川!D32 -> 51.2 | G50: =[1]旭川!E32 -> 20.4 | H50: =[1]旭川!F32 -> 23.4 | I50: =[1]旭川!G32 -> 2.5 | J50: =[1]旭川!H32 -> 2.2 | K50: =F50+G50 -> 71.6 | L50: =I50+J50 -> 4.7
A51: 宗谷 | B51: 稚内市 | C51: 石塚建設興業（株） | D51: =[1]稚内!B6 -> 172 | E51: 回答数 | F51: =[1]稚内!D31 -> 26 | G51: =[1]稚内!E31 -> 0 | H51: =[1]稚内!F31 -> 11 | I51: =[1]稚内!G31 -> 0 | J51: =[1]稚内!H31 -> 7 | K51: =F51+G51 -> 26 | L51: =I51+J51 -> 7
E52: 割合（％） | F52: =[1]稚内!D32 -> 59 | G52: =[1]稚内!E32 -> 0 | H52: =[1]稚内!F32 -> 25 | I52: =[1]稚内!G32 -> 0 | J52: =[1]稚内!H32 -> 15.9 | K52: =F52+G52 -> 59 | L52: =I52+J52 -> 15.9
A53: オホーツク | B53: 北見市 | C53: （有）藤原工産 | D53: =[1]北見!B6 -> 511 | E53: 回答数 | F53: =[1]北見!D31 -> 117 | G53: =[1]北見!E31 -> 53 | H53: =[1]北見!F31 -> 56 | I53: =[1]北見!G31 -> 3 | J53: =[1]北見!H31 -> 1 | K53: =F53+G53 -> 170 | L53: =I53+J53 -> 4
E54: 割合（％） | F54: =[1]北見!D32 -> 50.8 | G54: =[1]北見!E32 -> 23 | H54: =[1]北見!F32 -> 24.3 | I54: =[1]北見!G32 -> 1.3 | J54: =[1]北見!H32 -> 0.4 | K54: =F54+G54 -> 73.8 | L54: =I54+J54 -> 1.7
B55: 網走市 | C55: （有）藤原工産 | D55: =[1]網走!B6 -> 488 | E55: 回答数 | F55: =[1]網走!D31 -> 96 | G55: =[1]網走!E31 -> 56 | H55: =[1]網走!F31 -> 109 | I55: =[1]網走!G31 -> 7 | J55: =[1]網走!H31 -> 8 | K55: =F55+G55 -> 152 | L55: =I55+J55 -> 15
E56: 割合（％） | F56: =[1]網走!D32 -> 34.7 | G56: =[1]網走!E32 -> 20.2 | H56: =[1]網走!F32 -> 39.4 | I56: =[1]網走!G32 -> 2.5 | J56: =[1]網走!H32 -> 2.8 | K56: =F56+G56 -> 54.9 | L56: =I56+J56 -> 5.3
B57: 美幌町 | C57: （有）藤原工産 | D57: =[1]美幌!B6 -> 84 | E57: 回答数 | F57: =[1]美幌!D31 -> 7 | G57: =[1]美幌!E31 -> 13 | H57: =[1]美幌!F31 -> 54 | I57: =[1]美幌!G31 -> 5 | J57: =[1]美幌!H31 -> 2 | K57: =F57+G57 -> 20 | L57: =I57+J57 -> 7
E58: 割合（％） | F58: =[1]美幌!D32 -> 8.6 | G58: =[1]美幌!E32 -> 16 | H58: =[1]美幌!F32 -> 66.6 | I58: =[1]美幌!G32 -> 6.1 | J58: =[1]美幌!H32 -> 2.4 | K58: =F58+G58 -> 24.6 | L58: =I58+J58 -> 8.5
B59: 斜里町 | C59: （有）藤原工産 | D59: =[1]斜里!B6 -> 36 | E59: 回答数 | F59: =[1]斜里!D31 -> 37 | G59: =[1]斜里!E31 -> 19 | H59: =[1]斜里!F31 -> 40 | I59: =[1]斜里!G31 -> 1 | J59: =[1]斜里!H31 -> 1 | K59: =F59+G59 -> 56 | L59: =I59+J59 -> 2
E60: 割合（％） | F60: =[1]斜里!D32 -> 37.7 | G60: =[1]斜里!E32 -> 19.3 | H60: =[1]斜里!F32 -> 40.8 | I60: =[1]斜里!G32 -> 1 | J60: =[1]斜里!H32 -> 1 | K60: =F60+G60 -> 57 | L60: =I60+J60 -> 2
A61: 十勝 | B61: 帯広圏 | C61: エーワン、創造設計舎ｺﾝｿｰｼｱﾑ | D61: =[1]帯広!B6 -> 1184 | E61: 回答数 | F61: =[1]帯広!D31 -> 134 | G61: =[1]帯広!E31 -> 125 | H61: =[1]帯広!F31 -> 182 | I61: =[1]帯広!G31 -> 20 | J61: =[1]帯広!H31 -> 8 | K61: =F61+G61 -> 259 | L61: =I61+J61 -> 28
E62: 割合（％） | F62: =[1]帯広!D32 -> 28.5 | G62: =[1]帯広!E32 -> 26.6 | H62: =[1]帯広!F32 -> 38.8 | I62: =[1]帯広!G32 -> 4.2 | J62: =[1]帯広!H32 -> 1.7 | K62: =F62+G62 -> 55.1 | L62: =I62+J62 -> 5.9
A63: 釧路 | B63: 釧路圏 | C63: （一財）釧路市住宅公社 | D63: =[1]釧路!B6 -> 1073 | E63: 回答数 | F63: =[1]釧路!D31 -> 161 | G63: =[1]釧路!E31 -> 60 | H63: =[1]釧路!F31 -> 208 | I63: =[1]釧路!G31 -> 10 | J63: =[1]釧路!H31 -> 13 | K63: =F63+G63 -> 221 | L63: =I63+J63 -> 23
E64: 割合（％） | F64: =[1]釧路!D32 -> 35.6 | G64: =[1]釧路!E32 -> 13.2 | H64: =[1]釧路!F32 -> 46 | I64: =[1]釧路!G32 -> 2.2 | J64: =[1]釧路!H32 -> 2.8 | K64: =F64+G64 -> 48.8 | L64: =I64+J64 -> 5
A65: 根室 | B65: 根室市 | C65: 渡辺建設工業（株） | D65: =[1]根室!B6 -> 185 | E65: 回答数 | F65: =[1]根室!D31 -> 80 | G65: =[1]根室!E31 -> 9 | H65: =[1]根室!F31 -> 7 | I65: =[1]根室!G31 -> 0 | J65: =[1]根室!H31 -> 2 | K65: =F65+G65 -> 89 | L65: =I65+J65 -> 2
E66: 割合（％） | F66: =[1]根室!D32 -> 81.6 | G66: =[1]根室!E32 -> 9.1 | H66: =[1]根室!F32 -> 7.1 | I66: =[1]根室!G32 -> 0 | J66: =[1]根室!H32 -> 2 | K66: =F66+G66 -> 90.7 | L66: =I66+J66 -> 2
B67: 中標津町 | C67: （有）シーズ・オブ・エリア | D67: =[1]中標津!B6 -> 125 | E67: 回答数 | F67: =[1]中標津!D31 -> 7 | G67: =[1]中標津!E31 -> 18 | H67: =[1]中標津!F31 -> 50 | I67: =[1]中標津!G31 -> 1 | J67: =[1]中標津!H31 -> 4 | K67: =F67+G67 -> 25 | L67: =I67+J67 -> 5
E68: 割合（％） | F68: =[1]中標津!D32 -> 8.7 | G68: =[1]中標津!E32 -> 22.5 | H68: =[1]中標津!F32 -> 62.5 | I68: =[1]中標津!G32 -> 1.2 | J68: =[1]中標津!H32 -> 5 | K68: =F68+G68 -> 31.2 | L68: =I68+J68 -> 6.2
A69: 任意地区計 | D69: =[1]任意計!B6 -> 710 | E69: 回答数 | F69: =[1]任意計!D31 -> 175 | G69: =[1]任意計!E31 -> 158 | H69: =[1]任意計!F31 -> 385 | I69: =[1]任意計!G31 -> 41 | J69: =[1]任意計!H31 -> 19 | K69: =F69+G69 -> 333 | L69: =I69+J69 -> 60
E70: 割合（％） | F70: =[1]任意計!D32 -> 22.4 | G70: =[1]任意計!E32 -> 20.3 | H70: =[1]任意計!F32 -> 49.4 | I70: =[1]任意計!G32 -> 5.2 | J70: =[1]任意計!H32 -> 2.4 | K70: =F70+G70 -> 42.7 | L70: =I70+J70 -> 7.6
A71: 空知 | B71: 夕張市 | D71: =[1]夕張!B6 -> 145 | E71: 回答数 | F71: =[1]夕張!D31 -> 39 | G71: =[1]夕張!E31 -> 14 | H71: =[1]夕張!F31 -> 45 | I71: =[1]夕張!G31 -> 7 | J71: =[1]夕張!H31 -> 1 | K71: =F71+G71 -> 53 | L71: =I71+J71 -> 8
E72: 割合（％） | F72: =[1]夕張!D32 -> 36.7 | G72: =[1]夕張!E32 -> 13.2 | H72: =[1]夕張!F32 -> 42.4 | I72: =[1]夕張!G32 -> 6.6 | J72: =[1]夕張!H32 -> 0.9 | K72: =F72+G72 -> 49.9 | L72: =I72+J72 -> 7.5
B73: 南幌町 | D73: =[1]南幌!B6 -> 60 | E73: 回答数 | F73: =[1]南幌!D31 -> 22 | G73: =[1]南幌!E31 -> 19 | H73: =[1]南幌!F31 -> 16 | I73: =[1]南幌!G31 -> 2 | J73: =[1]南幌!H31 -> 3 | K73: =F73+G73 -> 41 | L73: =I73+J73 -> 5
E74: 割合（％） | F74: =[1]南幌!D32 -> 35.4 | G74: =[1]南幌!E32 -> 30.6 | H74: =[1]南幌!F32 -> 25.8 | I74: =[1]南幌!G32 -> 3.2 | J74: =[1]南幌!H32 -> 4.8 | K74: =F74+G74 -> 66 | L74: =I74+J74 -> 8
A75: 渡島 | B75: 木古内町 | D75: =[1]木古内!B6 -> 39 | E75: 回答数 | F75: =[1]木古内!D31 -> 20 | G75: =[1]木古内!E31 -> 10 | H75: =[1]木古内!F31 -> 39 | I75: =[1]木古内!G31 -> 4 | J75: =[1]木古内!H31 -> 1 | K75: =F75+G75 -> 30 | L75: =I75+J75 -> 5
E76: 割合（％） | F76: =[1]木古内!D32 -> 27 | G76: =[1]木古内!E32 -> 13.5 | H76: =[1]木古内!F32 -> 52.7 | I76: =[1]木古内!G32 -> 5.4 | J76: =[1]木古内!H32 -> 1.3 | K76: =F76+G76 -> 40.5 | L76: =I76+J76 -> 6.7
A77: 上川 | B77: 士別市 | D77: =[1]士別!B6 -> 60 | E77: 回答数 | F77: =[1]士別!D31 -> 22 | G77: =[1]士別!E31 -> 10 | H77: =[1]士別!F31 -> 44 | I77: =[1]士別!G31 -> 9 | J77: =[1]士別!H31 -> 3 | K77: =F77+G77 -> 32 | L77: =I77+J77 -> 12
E78: 割合（％） | F78: =[1]士別!D32 -> 25 | G78: =[1]士別!E32 -> 11.3 | H78: =[1]士別!F32 -> 50 | I78: =[1]士別!G32 -> 10.2 | J78: =[1]士別!H32 -> 3.4 | K78: =F78+G78 -> 36.3 | L78: =I78+J78 -> 13.6
B79: 富良野市 | D79: =[1]富良野!B6 -> 72 | E79: 回答数 | F79: =[1]富良野!D31 -> 8 | G79: =[1]富良野!E31 -> 10 | H79: =[1]富良野!F31 -> 48 | I79: =[1]富良野!G31 -> 3 | J79: =[1]富良野!H31 -> 0 | K79: =F79+G79 -> 18 | L79: =I79+J79 -> 3
E80: 割合（％） | F80: =[1]富良野!D32 -> 11.5 | G80: =[1]富良野!E32 -> 14.4 | H80: =[1]富良野!F32 -> 69.5 | I80: =[1]富良野!G32 -> 4.3 | J80: =[1]富良野!H32 -> 0 | K80: =F80+G80 -> 25.9 | L80: =I80+J80 -> 4.3
B81: 名寄市 | D81: =[1]名寄!B6 -> 147 | E81: 回答数 | F81: =[1]名寄!D31 -> 23 | G81: =[1]名寄!E31 -> 19 | H81: =[1]名寄!F31 -> 51 | I81: =[1]名寄!G31 -> 4 | J81: =[1]名寄!H31 -> 6 | K81: =F81+G81 -> 42 | L81: =I81+J81 -> 10
E82: 割合（％） | F82: =[1]名寄!D32 -> 22.3 | G82: =[1]名寄!E32 -> 18.4 | H82: =[1]名寄!F32 -> 49.5 | I82: =[1]名寄!G32 -> 3.8 | J82: =[1]名寄!H32 -> 5.8 | K82: =F82+G82 -> 40.7 | L82: =I82+J82 -> 9.6
A83: 留萌 | B83: 苫前町 | D83: =[1]苫前!B6 -> 36 | E83: 回答数 | F83: =[1]苫前!D31 -> 13 | G83: =[1]苫前!E31 -> 41 | H83: =[1]苫前!F31 -> 62 | I83: =[1]苫前!G31 -> 7 | J83: =[1]苫前!H31 -> 5 | K83: =F83+G83 -> 54 | L83: =I83+J83 -> 12
E84: 割合（％） | F84: =[1]苫前!D32 -> 10.1 | G84: =[1]苫前!E32 -> 32 | H84: =[1]苫前!F32 -> 48.4 | I84: =[1]苫前!G32 -> 5.4 | J84: =[1]苫前!H32 -> 3.9 | K84: =F84+G84 -> 42.1 | L84: =I84+J84 -> 9.3
A85: オホーツク | B85: 紋別市 | D85: =[1]紋別!B6 -> 105 | E85: 回答数 | F85: =[1]紋別!D31 -> 21 | G85: =[1]紋別!E31 -> 15 | H85: =[1]紋別!F31 -> 41 | I85: =[1]紋別!G31 -> 1 | J85: =[1]紋別!H31 -> 0 | K85: =F85+G85 -> 36 | L85: =I85+J85 -> 1
E86: 割合（％） | F86: =[1]紋別!D32 -> 26.9 | G86: =[1]紋別!E32 -> 19.2 | H86: =[1]紋別!F32 -> 52.5 | I86: =[1]紋別!G32 -> 1.2 | J86: =[1]紋別!H32 -> 0 | K86: =F86+G86 -> 46.1 | L86: =I86+J86 -> 1.2
B87: 遠軽町 | D87: =[1]遠軽!B6 -> 46 | E87: 回答数 | F87: =[1]遠軽!D31 -> 7 | G87: =[1]遠軽!E31 -> 20 | H87: =[1]遠軽!F31 -> 39 | I87: =[1]遠軽!G31 -> 4 | J87: =[1]遠軽!H31 -> 0 | K87: =F87+G87 -> 27 | L87: =I87+J87 -> 4
E88: 割合（％） | F88: =[1]遠軽!D32 -> 10 | G88: =[1]遠軽!E32 -> 28.5 | H88: =[1]遠軽!F32 -> 55.7 | I88: =[1]遠軽!G32 -> 5.7 | J88: =[1]遠軽!H32 -> 0 | K88: =F88+G88 -> 38.5 | L88: =I88+J88 -> 5.7

Sheet 総計
A1: ○令和６年度道営住宅指定管理者満足度調査実施結果
A3: ①指定管理者
A4: 地区名 | B4: 全道計（指定管理地区）
A6: 管理戸数 | B6: =SUM(公募計!B6,任意計!B6) -> 21510
A8: ②モニタリング回答者等
A9: 調査対象者 | B9: =SUM(公募計!B9,任意計!B9) -> 4365
A10: 全回答者数 | B10: =#REF! -> #REF!
A12: 性別 | B12: 男性 | C12: =SUM(公募計!C12,任意計!C12) -> 958 | D12: 女性 | E12: =SUM(公募計!E12,任意計!E12) -> 1262 | F12: 不選択 | G12: =SUM(公募計!G12,任意計!G12) -> 64 | H12: 不明 | I12: =SUM(公募計!I12,任意計!I12) -> 82
A13: 年齢 | B13: 20歳未満 | C13: =SUM(公募計!C13,任意計!C13) -> 1 | D13: 20～29歳 | E13: =SUM(公募計!E13,任意計!E13) -> 13 | F13: 30～39歳 | G13: =SUM(公募計!G13,任意計!G13) -> 66 | H13: 40～49歳 | I13: =SUM(公募計!I13,任意計!I13) -> 182
B14: 50～59歳 | C14: =SUM(公募計!C14,任意計!C14) -> 364 | D14: 60～64歳 | E14: =SUM(公募計!E14,任意計!E14) -> 198 | F14: 65歳以上 | G14: =SUM(公募計!G14,任意計!G14) -> 1508 | H14: 不明 | I14: =SUM(公募計!I14,任意計!I14) -> 34
A15: 職業 | B15: 自営業 | C15: =SUM(公募計!C15,任意計!C15) -> 62 | D15: 会社員 | E15: =SUM(公募計!E15,任意計!E15) -> 536 | F15: 公務員 | G15: =SUM(公募計!G15,任意計!G15) -> 10 | H15: 主婦 | I15: =SUM(公募計!I15,任意計!I15) -> 197
B16: 無職 | C16: =SUM(公募計!C16,任意計!C16) -> 1126 | D16: その他 | E16: =SUM(公募計!E16,任意計!E16) -> 356 | F16: 不明 | G16: =SUM(公募計!G16,任意計!G16) -> 79
A18: ③回答集計
A19: 質問の内容 | D19: 知っていた | E19: 知らなかった | I19: 未回答
A20: 指定管理者制度の導入について | D20: =SUM(公募計!D20,任意計!D20) -> 1275 | E20: =SUM(公募計!E20,任意計!E20) -> 1056 | I20: =SUM(公募計!I20,任意計!I20) -> 35
D21: 満足 | E21: やや満足 | F21: どちらとも いえない | G21: やや不満 | H21: 不満 | I21: 未回答
A22: 個人情報・プライバシーへの配慮について | D22: =SUM(公募計!D22,任意計!D22) -> 888 | E22: =SUM(公募計!E22,任意計!E22) -> 498 | F22: =SUM(公募計!F22,任意計!F22) -> 866 | G22: =SUM(公募計!G22,任意計!G22) -> 38 | H22: =SUM(公募計!H22,任意計!H22) -> 26 | I22: =SUM(公募計!I22,任意計!I22) -> 50
A23: 夜間休日等の緊急事態対応について | D23: =SUM(公募計!D23,任意計!D23) -> 524 | E23: =SUM(公募計!E23,任意計!E23) -> 363 | F23: =SUM(公募計!F23,任意計!F23) -> 1194 | G23: =SUM(公募計!G23,任意計!G23) -> 59 | H23: =SUM(公募計!H23,任意計!H23) -> 44 | I23: =SUM(公募計!I23,任意計!I23) -> 182
A24: 電話・窓口対応について | D24: =SUM(公募計!D24,任意計!D24) -> 1005 | E24: =SUM(公募計!E24,任意計!E24) -> 613 | F24: =SUM(公募計!F24,任意計!F24) -> 609 | G24: =SUM(公募計!G24,任意計!G24) -> 58 | H24: =SUM(公募計!H24,任意計!H24) -> 40 | I24: =SUM(公募計!I24,任意計!I24) -> 41
A25: 修繕必要時の対応について | D25: =SUM(公募計!D25,任意計!D25) -> 732 | E25: =SUM(公募計!E25,任意計!E25) -> 550 | F25: =SUM(公募計!F25,任意計!F25) -> 744 | G25: =SUM(公募計!G25,任意計!G25) -> 87 | H25: =SUM(公募計!H25,任意計!H25) -> 88 | I25: =SUM(公募計!I25,任意計!I25) -> 165
A26: 修繕工事の施工状況について | D26: =SUM(公募計!D26,任意計!D26) -> 732 | E26: =SUM(公募計!E26,任意計!E26) -> 555 | F26: =SUM(公募計!F26,任意計!F26) -> 773 | G26: =SUM(公募計!G26,任意計!G26) -> 82 | H26: =SUM(公募計!H26,任意計!H26) -> 48 | I26: =SUM(公募計!I26,任意計!I26) -> 176
A27: 建物の維持管理状況について | D27: =SUM(公募計!D27,任意計!D27) -> 494 | E27: =SUM(公募計!E27,任意計!E27) -> 496 | F27: =SUM(公募計!F27,任意計!F27) -> 906 | G27: =SUM(公募計!G27,任意計!G27) -> 186 | H27: =SUM(公募計!H27,任意計!H27) -> 124 | I27: =SUM(公募計!I27,任意計!I27) -> 160
A28: 共同施設の管理状況について | D28: =SUM(公募計!D28,任意計!D28) -> 541 | E28: =SUM(公募計!E28,任意計!E28) -> 421 | F28: =SUM(公募計!F28,任意計!F28) -> 895 | G28: =SUM(公募計!G28,任意計!G28) -> 105 | H28: =SUM(公募計!H28,任意計!H28) -> 77 | I28: =SUM(公募計!I28,任意計!I28) -> 327
A29: 維持管理以外の対応について | D29: =SUM(公募計!D29,任意計!D29) -> 568 | E29: =SUM(公募計!E29,任意計!E29) -> 489 | F29: =SUM(公募計!F29,任意計!F29) -> 1024 | G29: =SUM(公募計!G29,任意計!G29) -> 41 | H29: =SUM(公募計!H29,任意計!H29) -> 50 | I29: =SUM(公募計!I29,任意計!I29) -> 194
A30: 指定管理者の全般的な管理状況について | D30: =SUM(公募計!D30,任意計!D30) -> 618 | E30: =SUM(公募計!E30,任意計!E30) -> 530 | F30: =SUM(公募計!F30,任意計!F30) -> 920 | G30: =SUM(公募計!G30,任意計!G30) -> 66 | H30: =SUM(公募計!H30,任意計!H30) -> 51 | I30: =SUM(公募計!I30,任意計!I30) -> 181
A31: 合計（件） | D31: =SUM(D22:D30) -> 6102 | E31: =SUM(E22:E30) -> 4515 | F31: =SUM(F22:F30) -> 7931 | G31: =SUM(G22:G30) -> 722 | H31: =SUM(H22:H30) -> 548 | I31: =SUM(I22:I30) -> 1476
A32: 割合（％） | D32: =IF(D31=0,"",ROUNDDOWN(D31/SUM($D$31:$H$31)*100,1)) -> 30.7 | E32: =IF(E31=0,"",ROUNDDOWN(E31/SUM($D$31:$H$31)*100,1)) -> 22.7 | F32: =IF(F31=0,"",ROUNDDOWN(F31/SUM($D$31:$H$31)*100,1)) -> 40 | G32: =IF(G31=0,"",ROUNDDOWN(G31/SUM($D$31:$H$31)*100,1)) -> 3.6 | H32: =IF(H31=0,"",ROUNDDOWN(H31/SUM($D$31:$H$31)*100,1)) -> 2.7

Sheet 公募計
A1: =総計!A1 -> ○令和６年度道営住宅指定管理者満足度調査実施結果
A3: ①指定管理者
A4: 地区名 | B4: 公募地区計
B5: ３１地区
A6: 管理戸数 | B6: =SUM(岩見沢:中標津!B6:D6) -> 20800
A8: ②モニタリング回答者等
A9: 調査対象者 | B9: =SUM(岩見沢:中標津!B9:B9) -> 4169
A10: 全回答者数 | B10: =#REF! -> #REF!
A12: 性別 | B12: 男性 | C12: =SUM(岩見沢:中標津!C12:C12) -> 920 | D12: 女性 | E12: =SUM(岩見沢:中標津!E12:E12) -> 1210 | F12: 不選択 | G12: =SUM(岩見沢:中標津!G12:G12) -> 62 | H12: 不明 | I12: =SUM(岩見沢:中標津!I12:I12) -> 82
A13: 年齢 | B13: 20歳未満 | C13: =SUM(岩見沢:中標津!C13:C13) -> 1 | D13: 20～29歳 | E13: =SUM(岩見沢:中標津!E13:E13) -> 12 | F13: 30～39歳 | G13: =SUM(岩見沢:中標津!G13:G13) -> 60 | H13: 40～49歳 | I13: =SUM(岩見沢:中標津!I13:I13) -> 171
B14: 50～59歳 | C14: =SUM(岩見沢:中標津!C14:C14) -> 340 | D14: 60～64歳 | E14: =SUM(岩見沢:中標津!E14:E14) -> 196 | F14: 65歳以上 | G14: =SUM(岩見沢:中標津!G14:G14) -> 1460 | H14: 不明 | I14: =SUM(岩見沢:中標津!I14:I14) -> 34
A15: 職業 | B15: 自営業 | C15: =SUM(岩見沢:中標津!C15:C15) -> 60 | D15: 会社員 | E15: =SUM(岩見沢:中標津!E15:E15) -> 504 | F15: 公務員 | G15: =SUM(岩見沢:中標津!G15:G15) -> 7 | H15: 主婦 | I15: =SUM(岩見沢:中標津!I15:I15) -> 193
B16: 無職 | C16: =SUM(岩見沢:中標津!C16:C16) -> 1092 | D16: その他 | E16: =SUM(岩見沢:中標津!E16:E16) -> 343 | F16: 不明 | G16: =SUM(岩見沢:中標津!G16:G16) -> 75
A18: ③回答集計
A19: 質問の内容 | D19: 知っていた | E19: 知らなかった | I19: 未回答
A20: 指定管理者制度の導入について | D20: =SUM(岩見沢:中標津!D20:D20) -> 1219 | E20: =SUM(岩見沢:中標津!E20:E20) -> 1023 | I20: =SUM(岩見沢:中標津!I20:I20) -> 32
D21: 満足 | E21: やや満足 | F21: どちらとも いえない | G21: やや不満 | H21: 不満 | I21: 未回答
A22: 個人情報・プライバシーへの配慮について | D22: =SUM(岩見沢:中標津!D22:D22) -> 860 | E22: =SUM(岩見沢:中標津!E22:E22) -> 469 | F22: =SUM(岩見沢:中標津!F22:F22) -> 834 | G22: =SUM(岩見沢:中標津!G22:G22) -> 38 | H22: =SUM(岩見沢:中標津!H22:H22) -> 25 | I22: =SUM(岩見沢:中標津!I22:I22) -> 48
A23: 夜間休日等の緊急事態対応について | D23: =SUM(岩見沢:中標津!D23:D23) -> 506 | E23: =SUM(岩見沢:中標津!E23:E23) -> 345 | F23: =SUM(岩見沢:中標津!F23:F23) -> 1150 | G23: =SUM(岩見沢:中標津!G23:G23) -> 57 | H23: =SUM(岩見沢:中標津!H23:H23) -> 41 | I23: =SUM(岩見沢:中標津!I23:I23) -> 175
A24: 電話・窓口対応について | D24: =SUM(岩見沢:中標津!D24:D24) -> 975 | E24: =SUM(岩見沢:中標津!E24:E24) -> 585 | F24: =SUM(岩見沢:中標津!F24:F24) -> 578 | G24: =SUM(岩見沢:中標津!G24:G24) -> 58 | H24: =SUM(岩見沢:中標津!H24:H24) -> 40 | I24: =SUM(岩見沢:中標津!I24:I24) -> 38
A25: 修繕必要時の対応について | D25: =SUM(岩見沢:中標津!D25:D25) -> 706 | E25: =SUM(岩見沢:中標津!E25:E25) -> 525 | F25: =SUM(岩見沢:中標津!F25:F25) -> 718 | G25: =SUM(岩見沢:中標津!G25:G25) -> 82 | H25: =SUM(岩見沢:中標津!H25:H25) -> 85 | I25: =SUM(岩見沢:中標津!I25:I25) -> 158
A26: 修繕工事の施工状況について | D26: =SUM(岩見沢:中標津!D26:D26) -> 709 | E26: =SUM(岩見沢:中標津!E26:E26) -> 533 | F26: =SUM(岩見沢:中標津!F26:F26) -> 740 | G26: =SUM(岩見沢:中標津!G26:G26) -> 77 | H26: =SUM(岩見沢:中標津!H26:H26) -> 48 | I26: =SUM(岩見沢:中標津!I26:I26) -> 167
A27: 建物の維持管理状況について | D27: =SUM(岩見沢:中標津!D27:D27) -> 478 | E27: =SUM(岩見沢:中標津!E27:E27) -> 477 | F27: =SUM(岩見沢:中標津!F27:F27) -> 871 | G27: =SUM(岩見沢:中標津!G27:G27) -> 174 | H27: =SUM(岩見沢:中標津!H27:H27) -> 119 | I27: =SUM(岩見沢:中標津!I27:I27) -> 155
A28: 共同施設の管理状況について | D28: =SUM(岩見沢:中標津!D28:D28) -> 532 | E28: =SUM(岩見沢:中標津!E28:E28) -> 399 | F28: =SUM(岩見沢:中標津!F28:F28) -> 859 | G28: =SUM(岩見沢:中標津!G28:G28) -> 101 | H28: =SUM(岩見沢:中標津!H28:H28) -> 75 | I28: =SUM(岩見沢:中標津!I28:I28) -> 308
A29: 維持管理以外の対応について | D29: =SUM(岩見沢:中標津!D29:D29) -> 550 | E29: =SUM(岩見沢:中標津!E29:E29) -> 468 | F29: =SUM(岩見沢:中標津!F29:F29) -> 983 | G29: =SUM(岩見沢:中標津!G29:G29) -> 39 | H29: =SUM(岩見沢:中標津!H29:H29) -> 49 | I29: =SUM(岩見沢:中標津!I29:I29) -> 185
A30: 指定管理者の全般的な管理状況について | D30: =SUM(岩見沢:中標津!D30:D30) -> 599 | E30: =SUM(岩見沢:中標津!E30:E30) -> 507 | F30: =SUM(岩見沢:中標津!F30:F30) -> 885 | G30: =SUM(岩見沢:中標津!G30:G30) -> 63 | H30: =SUM(岩見沢:中標津!H30:H30) -> 49 | I30: =SUM(岩見沢:中標津!I30:I30) -> 171
A31: 合計（件） | D31: =SUM(D22:D30) -> 5915 | E31: =SUM(E22:E30) -> 4308 | F31: =SUM(F22:F30) -> 7618 | G31: =SUM(G22:G30) -> 689 | H31: =SUM(H22:H30) -> 531 | I31: =SUM(I22:I30) -> 1405
A32: 割合（％） | D32: =IF(D31=0,"",ROUNDDOWN(D31/SUM($D$31:$H$31)*100,1)) -> 31 | E32: =IF(E31=0,"",ROUNDDOWN(E31/SUM($D$31:$H$31)*100,1)) -> 22.6 | F32: =IF(F31=0,"",ROUNDDOWN(F31/SUM($D$31:$H$31)*100,1)) -> 39.9 | G32: =IF(G31=0,"",ROUNDDOWN(G31/SUM($D$31:$H$31)*100,1)) -> 3.6 | H32: =IF(H31=0,"",ROUNDDOWN(H31/SUM($D$31:$H$31)*100,1)) -> 2.7

Sheet 任意計
A1: =総計!A1 -> ○令和６年度道営住宅指定管理者満足度調査実施結果
A3: ①指定管理者
A4: 地区名 | B4: 任意指定地区計
B5: ９地区
A6: 管理戸数 | B6: =SUM(夕張:遠軽!B6:D6) -> 710
A8: ②モニタリング回答者等
A9: 調査対象者 | B9: =SUM(夕張:遠軽!B9:B9) -> 196
A10: 全回答者数 | B10: =SUM(C12,E12,G12) -> 92
A12: 性別 | B12: 男性 | C12: =SUM(夕張:遠軽!C12:C12) -> 38 | D12: 女性 | E12: =SUM(夕張:遠軽!E12:E12) -> 52 | F12: 不選択 | G12: =SUM(夕張:遠軽!G12:G12) -> 2 | H12: 不明 | I12: =SUM(夕張:遠軽!I12:I12) -> 0
A13: 年齢 | B13: 20歳未満 | C13: =SUM(夕張:遠軽!C13:C13) -> 0 | D13: 20～29歳 | E13: =SUM(夕張:遠軽!E13:E13) -> 1 | F13: 30～39歳 | G13: =SUM(夕張:遠軽!G13:G13) -> 6 | H13: 40～49歳 | I13: =SUM(夕張:遠軽!I13:I13) -> 11
B14: 50～59歳 | C14: =SUM(夕張:遠軽!C14:C14) -> 24 | D14: 60～64歳 | E14: =SUM(夕張:遠軽!E14:E14) -> 2 | F14: 65歳以上 | G14: =SUM(夕張:遠軽!G14:G14) -> 48 | H14: 不明 | I14: =SUM(夕張:遠軽!I14:I14) -> 0
A15: 職業 | B15: 自営業 | C15: =SUM(夕張:遠軽!C15:C15) -> 2 | D15: 会社員 | E15: =SUM(夕張:遠軽!E15:E15) -> 32 | F15: 公務員 | G15: =SUM(夕張:遠軽!G15:G15) -> 3 | H15: 主婦 | I15: =SUM(夕張:遠軽!I15:I15) -> 4
B16: 無職 | C16: =SUM(夕張:遠軽!C16:C16) -> 34 | D16: その他 | E16: =SUM(夕張:遠軽!E16:E16) -> 13 | F16: 不明 | G16: =SUM(夕張:遠軽!G16:G16) -> 4
A18: ③回答集計
A19: 質問の内容 | D19: 知っていた | E19: 知らなかった | I19: 未回答
A20: 指定管理者制度の導入について | D20: =SUM(夕張:遠軽!D20:D20) -> 56 | E20: =SUM(夕張:遠軽!E20:E20) -> 33 | I20: =SUM(夕張:遠軽!I20:I20) -> 3
D21: 満足 | E21: やや満足 | F21: どちらとも いえない | G21: やや不満 | H21: 不満 | I21: 未回答
A22: 個人情報・プライバシーへの配慮について | D22: =SUM(夕張:遠軽!D22:D22) -> 28 | E22: =SUM(夕張:遠軽!E22:E22) -> 29 | F22: =SUM(夕張:遠軽!F22:F22) -> 32 | G22: =SUM(夕張:遠軽!G22:G22) -> 0 | H22: =SUM(夕張:遠軽!H22:H22) -> 1 | I22: =SUM(夕張:遠軽!I22:I22) -> 2
A23: 夜間休日等の緊急事態対応について | D23: =SUM(夕張:遠軽!D23:D23) -> 18 | E23: =SUM(夕張:遠軽!E23:E23) -> 18 | F23: =SUM(夕張:遠軽!F23:F23) -> 44 | G23: =SUM(夕張:遠軽!G23:G23) -> 2 | H23: =SUM(夕張:遠軽!H23:H23) -> 3 | I23: =SUM(夕張:遠軽!I23:I23) -> 7
A24: 電話・窓口対応について | D24: =SUM(夕張:遠軽!D24:D24) -> 30 | E24: =SUM(夕張:遠軽!E24:E24) -> 28 | F24: =SUM(夕張:遠軽!F24:F24) -> 31 | G24: =SUM(夕張:遠軽!G24:G24) -> 0 | H24: =SUM(夕張:遠軽!H24:H24) -> 0 | I24: =SUM(夕張:遠軽!I24:I24) -> 3
A25: 修繕必要時の対応について | D25: =SUM(夕張:遠軽!D25:D25) -> 26 | E25: =SUM(夕張:遠軽!E25:E25) -> 25 | F25: =SUM(夕張:遠軽!F25:F25) -> 26 | G25: =SUM(夕張:遠軽!G25:G25) -> 5 | H25: =SUM(夕張:遠軽!H25:H25) -> 3 | I25: =SUM(夕張:遠軽!I25:I25) -> 7
A26: 修繕工事の施工状況について | D26: =SUM(夕張:遠軽!D26:D26) -> 23 | E26: =SUM(夕張:遠軽!E26:E26) -> 22 | F26: =SUM(夕張:遠軽!F26:F26) -> 33 | G26: =SUM(夕張:遠軽!G26:G26) -> 5 | H26: =SUM(夕張:遠軽!H26:H26) -> 0 | I26: =SUM(夕張:遠軽!I26:I26) -> 9
A27: 建物の維持管理状況について | D27: =SUM(夕張:遠軽!D27:D27) -> 16 | E27: =SUM(夕張:遠軽!E27:E27) -> 19 | F27: =SUM(夕張:遠軽!F27:F27) -> 35 | G27: =SUM(夕張:遠軽!G27:G27) -> 12 | H27: =SUM(夕張:遠軽!H27:H27) -> 5 | I27: =SUM(夕張:遠軽!I27:I27) -> 5
A28: 共同施設の管理状況について | D28: =SUM(夕張:遠軽!D28:D28) -> 9 | E28: =SUM(夕張:遠軽!E28:E28) -> 22 | F28: =SUM(夕張:遠軽!F28:F28) -> 36 | G28: =SUM(夕張:遠軽!G28:G28) -> 4 | H28: =SUM(夕張:遠軽!H28:H28) -> 2 | I28: =SUM(夕張:遠軽!I28:I28) -> 19
A29: 維持管理以外の対応について | D29: =SUM(夕張:遠軽!D29:D29) -> 18 | E29: =SUM(夕張:遠軽!E29:E29) -> 21 | F29: =SUM(夕張:遠軽!F29:F29) -> 41 | G29: =SUM(夕張:遠軽!G29:G29) -> 2 | H29: =SUM(夕張:遠軽!H29:H29) -> 1 | I29: =SUM(夕張:遠軽!I29:I29) -> 9
A30: 指定管理者の全般的な管理状況について | D30: =SUM(夕張:遠軽!D30:D30) -> 19 | E30: =SUM(夕張:遠軽!E30:E30) -> 23 | F30: =SUM(夕張:遠軽!F30:F30) -> 35 | G30: =SUM(夕張:遠軽!G30:G30) -> 3 | H30: =SUM(夕張:遠軽!H30:H30) -> 2 | I30: =SUM(夕張:遠軽!I30:I30) -> 10
A31: 合計（件） | D31: =SUM(D22:D30) -> 187 | E31: =SUM(E22:E30) -> 207 | F31: =SUM(F22:F30) -> 313 | G31: =SUM(G22:G30) -> 33 | H31: =SUM(H22:H30) -> 17 | I31: =SUM(I22:I30) -> 71
A32: 割合（％） | D32: =IF(D31=0,"",ROUNDDOWN(D31/SUM($D$31:$H$31)*100,1)) -> 24.7 | E32: =IF(E31=0,"",ROUNDDOWN(E31/SUM($D$31:$H$31)*100,1)) -> 27.3 | F32: =IF(F31=0,"",ROUNDDOWN(F31/SUM($D$31:$H$31)*100,1)) -> 41.3 | G32: =IF(G31=0,"",ROUNDDOWN(G31/SUM($D$31:$H$31)*100,1)) -> 4.3 | H32: =IF(H31=0,"",ROUNDDOWN(H31/SUM($D$31:$H$31)*100,1)) -> 2.2

Sheet 岩見沢
A1: =総計!A1 -> ○令和６年度道営住宅指定管理者満足度調査実施結果
A3: ①指定管理者
A4: 地区名 | B4: 岩見沢市
A5: 指定管理者 | B5: （株）セキュメント
A6: 管理戸数 | B6: 542
A8: ②モニタリング回答者等
A9: 調査対象者 | B9: 108
A10: 全回答者数 | B10: =#REF! -> #REF!
A12: 性別 | B12: 男性 | C12: 18 | D12: 女性 | E12: 30 | F12: 不選択 | G12: 2 | H12: 不明 | I12: 3
A13: 年齢 | B13: 20歳未満 | D13: 20～29歳 | F13: 30～39歳 | H13: 40～49歳
B14: 50～59歳 | C14: 9 | D14: 60～64歳 | E14: 3 | F14: 65歳以上 | G14: 40 | H14: 不明 | I14: 1
A15: 職業 | B15: 自営業 | D15: 会社員 | E15: 6 | F15: 公務員 | H15: 主婦 | I15: 2
B16: 無職 | C16: 35 | D16: その他 | E16: 6 | F16: 不明 | G16: 4
A18: ③回答集計
A19: 質問の内容 | D19: 知っていた | E19: 知らなかった | I19: 未回答
A20: 指定管理者制度の導入について | D20: 41 | E20: 10 | I20: 2
D21: 満足 | E21: やや満足 | F21: どちらとも いえない | G21: やや不満 | H21: 不満 | I21: 未回答
A22: 個人情報・プライバシーへの配慮について | D22: 27 | E22: 12 | F22: 12 | G22: 1 | H22: 0 | I22: 1
A23: 夜間休日等の緊急事態対応について | D23: 16 | E23: 9 | F23: 22 | G23: 2 | H23: 2 | I23: 2
A24: 電話・窓口対応について | D24: 33 | E24: 9 | F24: 9 | G24: 1 | H24: 0 | I24: 1
A25: 修繕必要時の対応について | D25: 22 | E25: 10 | F25: 11 | G25: 3 | H25: 3 | I25: 4
A26: 修繕工事の施工状況について | D26: 22 | E26: 8 | F26: 15 | G26: 2 | H26: 1 | I26: 5
A27: 建物の維持管理状況について | D27: 12 | E27: 10 | F27: 22 | G27: 2 | H27: 1 | I27: 6
A28: 共同施設の管理状況について | D28: 13 | E28: 6 | F28: 20 | G28: 3 | H28: 0 | I28: 11
A29: 維持管理以外の対応について | D29: 19 | E29: 14 | F29: 14 | G29: 2 | H29: 0 | I29: 4
A30: 指定管理者の全般的な管理状況について | D30: 20 | E30: 13 | F30: 13 | G30: 1 | H30: 1 | I30: 5
A31: 合計（件） | D31: =SUM(D22:D30) -> 184 | E31: =SUM(E22:E30) -> 91 | F31: =SUM(F22:F30) -> 138 | G31: =SUM(G22:G30) -> 17 | H31: =SUM(H22:H30) -> 8 | I31: =SUM(I22:I30) -> 39
A32: 割合（％） | D32: =IF(D31=0,"",ROUNDDOWN(D31/SUM($D$31:$H$31)*100,1)) -> 42 | E32: =IF(E31=0,"",ROUNDDOWN(E31/SUM($D$31:$H$31)*100,1)) -> 20.7 | F32: =IF(F31=0,"",ROUNDDOWN(F31/SUM($D$31:$H$31)*100,1)) -> 31.5 | G32: =IF(G31=0,"",ROUNDDOWN(G31/SUM($D$31:$H$31)*100,1)) -> 3.8 | H32: =IF(H31=0,"",ROUNDDOWN(H31/SUM($D$31:$H$31)*100,1)) -> 1.8

Sheet 美唄
A1: =総計!A1 -> ○令和６年度道営住宅指定管理者満足度調査実施結果
A3: ①指定管理者
A4: 地区名 | B4: 美唄市
A5: 指定管理者 | B5: ｴﾑｴﾑｴｽﾏﾝｼｮﾝﾏﾈｰｼﾞﾒﾝﾄｻｰﾋﾞｽ（株）
A6: 管理戸数 | B6: 209
A8: ②モニタリング回答者等
A9: 調査対象者 | B9: 42戸
A10: 全回答者数 | B10: =#REF! -> #REF!
A12: 性別 | B12: 男性 | C12: 8 | D12: 女性 | E12: 12 | F12: 不選択 | H12: 不明 | I12: 1
A13: 年齢 | B13: 20歳未満 | D13: 20～29歳 | E13: 1 | F13: 30～39歳 | G13: 1 | H13: 40～49歳
B14: 50～59歳 | C14: 2 | D14: 60～64歳 | E14: 2 | F14: 65歳以上 | G14: 14 | H14: 不明 | I14: 1
A15: 職業 | B15: 自営業 | C15: 1 | D15: 会社員 | E15: 2 | F15: 公務員 | G15: 1 | H15: 主婦 | I15: 1
B16: 無職 | C16: 15 | D16: その他 | E16: 1 | F16: 不明
A18: ③回答集計
A19: 質問の内容 | D19: 知っていた | E19: 知らなかった | I19: 未回答
A20: 指定管理者制度の導入について | D20: 16 | E20: 5
D21: 満足 | E21: やや満足 | F21: どちらとも いえない | G21: やや不満 | H21: 不満 | I21: 未回答
A22: 個人情報・プライバシーへの配慮について | D22: 9 | E22: 7 | F22: 4 | G22: 0 | H22: 1 | I22: 0
A23: 夜間休日等の緊急事態対応について | D23: 5 | E23: 6 | F23: 9 | G23: 0 | H23: 0 | I23: 1
A24: 電話・窓口対応について | D24: 12 | E24: 2 | F24: 5 | G24: 1 | H24: 1 | I24: 0
A25: 修繕必要時の対応について | D25: 9 | E25: 6 | F25: 3 | G25: 0 | H25: 3 | I25: 0
A26: 修繕工事の施工状況について | D26: 8 | E26: 8 | F26: 2 | G26: 0 | H26: 2 | I26: 1
A27: 建物の維持管理状況について | D27: 6 | E27: 6 | F27: 6 | G27: 1 | H27: 1 | I27: 1
A28: 共同施設の管理状況について | D28: 7 | E28: 7 | F28: 5 | G28: 0 | H28: 2 | I28: 0
A29: 維持管理以外の対応について | D29: 6 | E29: 8 | F29: 5 | G29: 0 | H29: 2 | I29: 0
A30: 指定管理者の全般的な管理状況について | D30: 9 | E30: 4 | F30: 6 | G30: 0 | H30: 2 | I30: 0
A31: 合計（件） | D31: =SUM(D22:D30) -> 71 | E31: =SUM(E22:E30) -> 54 | F31: =SUM(F22:F30) -> 45 | G31: =SUM(G22:G30) -> 2 | H31: =SUM(H22:H30) -> 14 | I31: =SUM(I22:I30) -> 3
A32: 割合（％） | D32: =IF(D31=0,"",ROUNDDOWN(D31/SUM($D$31:$H$31)*100,1)) -> 38.1 | E32: =IF(E31=0,"",ROUNDDOWN(E31/SUM($D$31:$H$31)*100,1)) -> 29 | F32: =IF(F31=0,"",ROUNDDOWN(F31/SUM($D$31:$H$31)*100,1)) -> 24.1 | G32: =IF(G31=0,"",ROUNDDOWN(G31/SUM($D$31:$H$31)*100,1)) -> 1 | H32: =IF(H31=0,"",ROUNDDOWN(H31/SUM($D$31:$H$31)*100,1)) -> 7.5

Sheet 芦別
A1: =総計!A1 -> ○令和６年度道営住宅指定管理者満足度調査実施結果
A3: ①指定管理者
A4: 地区名 | B4: 芦別市
A5: 指定管理者 | B5: ｴﾑｴﾑｴｽﾏﾝｼｮﾝﾏﾈｰｼﾞﾒﾝﾄｻｰﾋﾞｽ（株）
A6: 管理戸数 | B6: 84
A8: ②モニタリング回答者等
A9: 調査対象者 | B9: 20
A10: 全回答者数 | B10: =#REF! -> #REF!
A12: 性別 | B12: 男性 | C12: 6 | D12: 女性 | E12: 8 | F12: 不選択 | H12: 不明
A13: 年齢 | B13: 20歳未満 | D13: 20～29歳 | F13: 30～39歳 | H13: 40～49歳
B14: 50～59歳 | D14: 60～64歳 | E14: 2 | F14: 65歳以上 | G14: 12 | H14: 不明
A15: 職業 | B15: 自営業 | D15: 会社員 | F15: 公務員 | H15: 主婦 | I15: 1
B16: 無職 | C16: 11 | D16: その他 | E16: 2 | F16: 不明
A18: ③回答集計
A19: 質問の内容 | D19: 知っていた | E19: 知らなかった | I19: 未回答
A20: 指定管理者制度の導入について | D20: 9 | E20: 4 | I20: 1
D21: 満足 | E21: やや満足 | F21: どちらとも いえない | G21: やや不満 | H21: 不満 | I21: 未回答
A22: 個人情報・プライバシーへの配慮について | D22: 6 | E22: 1 | F22: 7 | G22: 0 | H22: 0 | I22: 0
A23: 夜間休日等の緊急事態対応について | D23: 2 | E23: 4 | F23: 7 | G23: 0 | H23: 0 | I23: 1
A24: 電話・窓口対応について | D24: 6 | E24: 3 | F24: 4 | G24: 1 | H24: 0 | I24: 0
A25: 修繕必要時の対応について | D25: 2 | E25: 3 | F25: 4 | G25: 1 | H25: 1 | I25: 3
A26: 修繕工事の施工状況について | D26: 4 | E26: 2 | F26: 5 | G26: 0 | H26: 0 | I26: 3
A27: 建物の維持管理状況について | D27: 5 | E27: 2 | F27: 5 | G27: 0 | H27: 0 | I27: 2
A28: 共同施設の管理状況について | D28: 7 | F28: 5 | G28: 0 | H28: 0 | I28: 2
A29: 維持管理以外の対応について | D29: 3 | E29: 4 | F29: 5 | G29: 0 | H29: 0 | I29: 2
A30: 指定管理者の全般的な管理状況について | D30: 4 | E30: 3 | F30: 4 | G30: 0 | H30: 1 | I30: 2
A31: 合計（件） | D31: =SUM(D22:D30) -> 39 | E31: =SUM(E22:E30) -> 22 | F31: =SUM(F22:F30) -> 46 | G31: =SUM(G22:G30) -> 2 | H31: =SUM(H22:H30) -> 2 | I31: =SUM(I22:I30) -> 15
A32: 割合（％） | D32: =IF(D31=0,"",ROUNDDOWN(D31/SUM($D$31:$H$31)*100,1)) -> 35.1 | E32: =IF(E31=0,"",ROUNDDOWN(E31/SUM($D$31:$H$31)*100,1)) -> 19.8 | F32: =IF(F31=0,"",ROUNDDOWN(F31/SUM($D$31:$H$31)*100,1)) -> 41.4 | G32: =IF(G31=0,"",ROUNDDOWN(G31/SUM($D$31:$H$31)*100,1)) -> 1.8 | H32: =IF(H31=0,"",ROUNDDOWN(H31/SUM($D$31:$H$31)*100,1)) -> 1.8

Sheet 赤平
A1: =総計!A1 -> ○令和６年度道営住宅指定管理者満足度調査実施結果
A3: ①指定管理者
A4: 地区名 | B4: 赤平市
A5: 指定管理者 | B5: ｴﾑｴﾑｴｽﾏﾝｼｮﾝﾏﾈｰｼﾞﾒﾝﾄｻｰﾋﾞｽ（株）
A6: 管理戸数 | B6: 152
A8: ②モニタリング回答者等
A9: 調査対象者 | B9: 31
A10: 全回答者数 | B10: =#REF! -> #REF!
A12: 性別 | B12: 男性 | C12: 4 | D12: 女性 | E12: 6 | F12: 不選択 | G12: 4 | H12: 不明 | I12: 1
A13: 年齢 | B13: 20歳未満 | D13: 20～29歳 | F13: 30～39歳 | H13: 40～49歳 | I13: 1
B14: 50～59歳 | C14: 3 | D14: 60～64歳 | F14: 65歳以上 | G14: 10 | H14: 不明 | I14: 1
A15: 職業 | B15: 自営業 | D15: 会社員 | E15: 3 | F15: 公務員 | H15: 主婦 | I15: 2
B16: 無職 | C16: 8 | D16: その他 | E16: 2 | F16: 不明
A18: ③回答集計
A19: 質問の内容 | D19: 知っていた | E19: 知らなかった | I19: 未回答
A20: 指定管理者制度の導入について | D20: 11 | E20: 4
D21: 満足 | E21: やや満足 | F21: どちらとも いえない | G21: やや不満 | H21: 不満 | I21: 未回答
A22: 個人情報・プライバシーへの配慮について | D22: 9 | E22: 1 | F22: 5 | G22: 0 | H22: 0 | I22: 0
A23: 夜間休日等の緊急事態対応について | D23: 9 | E23: 0 | F23: 6 | G23: 0 | H23: 0 | I23: 0
A24: 電話・窓口対応について | D24: 11 | E24: 2 | F24: 2 | G24: 0 | H24: 0 | I24: 0
A25: 修繕必要時の対応について | D25: 8 | E25: 2 | F25: 5 | G25: 0 | H25: 0 | I25: 0
A26: 修繕工事の施工状況について | D26: 10 | E26: 2 | F26: 3 | G26: 0 | H26: 0 | I26: 0
A27: 建物の維持管理状況について | D27: 6 | E27: 2 | F27: 5 | G27: 2 | H27: 0 | I27: 0
A28: 共同施設の管理状況について | D28: 3 | E28: 1 | F28: 6 | G28: 0 | H28: 1 | I28: 4
A29: 維持管理以外の対応について | D29: 8 | E29: 1 | F29: 6 | G29: 0 | H29: 0 | I29: 0
A30: 指定管理者の全般的な管理状況について | D30: 8 | E30: 2 | F30: 4 | G30: 1 | H30: 0 | I30: 0
A31: 合計（件） | D31: =SUM(D22:D30) -> 72 | E31: =SUM(E22:E30) -> 13 | F31: =SUM(F22:F30) -> 42 | G31: =SUM(G22:G30) -> 3 | H31: =SUM(H22:H30) -> 1 | I31: =SUM(I22:I30) -> 4
A32: 割合（％） | D32: =IF(D31=0,"",ROUNDDOWN(D31/SUM($D$31:$H$31)*100,1)) -> 54.9 | E32: =IF(E31=0,"",ROUNDDOWN(E31/SUM($D$31:$H$31)*100,1)) -> 9.9 | F32: =IF(F31=0,"",ROUNDDOWN(F31/SUM($D$31:$H$31)*100,1)) -> 32 | G32: =IF(G31=0,"",ROUNDDOWN(G31/SUM($D$31:$H$31)*100,1)) -> 2.2 | H32: =IF(H31=0,"",ROUNDDOWN(H31/SUM($D$31:$H$31)*100,1)) -> 0.7

Sheet 三笠
A1: =総計!A1 -> ○令和６年度道営住宅指定管理者満足度調査実施結果
A3: ①指定管理者
A4: 地区名 | B4: 三笠市
A5: 指定管理者 | B5: ｴﾑｴﾑｴｽﾏﾝｼｮﾝﾏﾈｰｼﾞﾒﾝﾄｻｰﾋﾞｽ（株）
A6: 管理戸数 | B6: 21
A8: ②モニタリング回答者等
A9: 調査対象者 | B9: 19
A10: 全回答者数 | B10: =SUM(C12,E12,G12) -> 7
A12: 性別 | B12: 男性 | C12: 4 | D12: 女性 | E12: 3 | F12: 不選択 | H12: 不明
A13: 年齢 | B13: 20歳未満 | D13: 20～29歳 | F13: 30～39歳 | G13: 2 | H13: 40～49歳 | I13: 1
B14: 50～59歳 | C14: 1 | D14: 60～64歳 | F14: 65歳以上 | G14: 3 | H14: 不明
A15: 職業 | B15: 自営業 | D15: 会社員 | E15: 3 | F15: 公務員 | H15: 主婦 | I15: 1
B16: 無職 | C16: 3 | D16: その他 | F16: 不明
A18: ③回答集計
A19: 質問の内容 | D19: 知っていた | E19: 知らなかった | I19: 未回答
A20: 指定管理者制度の導入について | D20: 5 | E20: 2
D21: 満足 | E21: やや満足 | F21: どちらとも いえない | G21: やや不満 | H21: 不満 | I21: 未回答
A22: 個人情報・プライバシーへの配慮について | D22: 2 | E22: 1 | F22: 3 | G22: 0 | H22: 0 | I22: 1
A23: 夜間休日等の緊急事態対応について | D23: 1 | E23: 0 | F23: 5 | G23: 0 | H23: 0 | I23: 1
A24: 電話・窓口対応について | D24: 1 | E24: 2 | F24: 3 | G24: 1 | H24: 0 | I24: 0
A25: 修繕必要時の対応について | D25: 1 | E25: 0 | F25: 6 | G25: 0 | H25: 0 | I25: 0
A26: 修繕工事の施工状況について | D26: 1 | E26: 0 | F26: 5 | G26: 0 | H26: 0 | I26: 1
A27: 建物の維持管理状況について | D27: 1 | E27: 0 | F27: 6 | G27: 0 | H27: 0 | I27: 0
A28: 共同施設の管理状況について | D28: 0 | E28: 0 | F28: 5 | G28: 0 | H28: 0 | I28: 2
A29: 維持管理以外の対応について | D29: 0 | E29: 1 | F29: 4 | G29: 0 | H29: 0 | I29: 2
A30: 指定管理者の全般的な管理状況について | D30: 0 | E30: 0 | F30: 4 | G30: 1 | H30: 0 | I30: 2
A31: 合計（件） | D31: =SUM(D22:D30) -> 7 | E31: =SUM(E22:E30) -> 4 | F31: =SUM(F22:F30) -> 41 | G31: =SUM(G22:G30) -> 2 | H31: =SUM(H22:H30) -> 0 | I31: =SUM(I22:I30) -> 9
A32: 割合（％） | D32: =IF(D31=0,"",ROUNDDOWN(D31/SUM($D$31:$H$31)*100,1)) -> 12.9 | E32: =IF(E31=0,"",ROUNDDOWN(E31/SUM($D$31:$H$31)*100,1)) -> 7.4 | F32: =IF(F31=0,"",ROUNDDOWN(F31/SUM($D$31:$H$31)*100,1)) -> 75.9 | G32: =IF(G31=0,"",ROUNDDOWN(G31/SUM($D$31:$H$31)*100,1)) -> 3.7 | H32: =IF(H31=0,"",ROUNDDOWN(H31/SUM($D$31:$H$31)*100,1))

Sheet 滝川
A1: =総計!A1 -> ○令和６年度道営住宅指定管理者満足度調査実施結果
A3: ①指定管理者
A4: 地区名 | B4: 滝川市
A5: 指定管理者 | B5: ｴﾑｴﾑｴｽﾏﾝｼｮﾝﾏﾈｰｼﾞﾒﾝﾄｻｰﾋﾞｽ（株）
A6: 管理戸数 | B6: 303
A8: ②モニタリング回答者等
A9: 調査対象者 | B9: 61
A10: 全回答者数 | B10: =#REF! -> #REF!
A12: 性別 | B12: 男性 | C12: 9 | D12: 女性 | E12: 17 | F12: 不選択 | H12: 不明 | I12: 3
A13: 年齢 | B13: 20歳未満 | D13: 20～29歳 | F13: 30～39歳 | G13: 1 | H13: 40～49歳 | I13: 2
B14: 50～59歳 | C14: 4 | D14: 60～64歳 | E14: 4 | F14: 65歳以上 | G14: 18 | H14: 不明
A15: 職業 | B15: 自営業 | D15: 会社員 | E15: 8 | F15: 公務員 | H15: 主婦 | I15: 5
B16: 無職 | C16: 11 | D16: その他 | E16: 5 | F16: 不明
A18: ③回答集計
A19: 質問の内容 | D19: 知っていた | E19: 知らなかった | I19: 未回答
A20: 指定管理者制度の導入について | D20: 29
D21: 満足 | E21: やや満足 | F21: どちらとも いえない | G21: やや不満 | H21: 不満 | I21: 未回答
A22: 個人情報・プライバシーへの配慮について | D22: 18 | E22: 6 | F22: 5 | G22: 0 | H22: 0 | I22: 0
A23: 夜間休日等の緊急事態対応について | D23: 11 | E23: 5 | F23: 9 | G23: 4 | H23: 0 | I23: 0
A24: 電話・窓口対応について | D24: 14 | E24: 12 | F24: 2 | G24: 0 | H24: 1 | I24: 0
A25: 修繕必要時の対応について | D25: 11 | E25: 10 | F25: 6 | G25: 2 | H25: 0 | I25: 0
A26: 修繕工事の施工状況について | D26: 13 | E26: 9 | F26: 7 | G26: 0 | H26: 0 | I26: 0
A27: 建物の維持管理状況について | D27: 8 | E27: 5 | F27: 13 | G27: 2 | H27: 1 | I27: 0
A28: 共同施設の管理状況について | D28: 6 | E28: 5 | F28: 12 | G28: 1 | H28: 0 | I28: 5
A29: 維持管理以外の対応について | D29: 10 | E29: 6 | F29: 11 | G29: 1 | H29: 1 | I29: 0
A30: 指定管理者の全般的な管理状況について | D30: 9 | E30: 10 | F30: 8 | G30: 2 | H30: 0 | I30: 0
A31: 合計（件） | D31: =SUM(D22:D30) -> 100 | E31: =SUM(E22:E30) -> 68 | F31: =SUM(F22:F30) -> 73 | G31: =SUM(G22:G30) -> 12 | H31: =SUM(H22:H30) -> 3 | I31: =SUM(I22:I30) -> 5
A32: 割合（％） | D32: =IF(D31=0,"",ROUNDDOWN(D31/SUM($D$31:$H$31)*100,1)) -> 39 | E32: =IF(E31=0,"",ROUNDDOWN(E31/SUM($D$31:$H$31)*100,1)) -> 26.5 | F32: =IF(F31=0,"",ROUNDDOWN(F31/SUM($D$31:$H$31)*100,1)) -> 28.5 | G32: =IF(G31=0,"",ROUNDDOWN(G31/SUM($D$31:$H$31)*100,1)) -> 4.6 | H32: =IF(H31=0,"",ROUNDDOWN(H31/SUM($D$31:$H$31)*100,1)) -> 1.1

Sheet 砂川
A1: =総計!A1 -> ○令和６年度道営住宅指定管理者満足度調査実施結果
A3: ①指定管理者
A4: 地区名 | B4: 砂川市
A5: 指定管理者 | B5: ｴﾑｴﾑｴｽﾏﾝｼｮﾝﾏﾈｰｼﾞﾒﾝﾄｻｰﾋﾞｽ（株）
A6: 管理戸数 | B6: 145
A8: ②モニタリング回答者等
A9: 調査対象者 | B9: 29
A10: 全回答者数 | B10: =#REF! -> #REF!
A12: 性別 | B12: 男性 | C12: 6 | D12: 女性 | E12: 9 | F12: 不選択 | G12: 1 | H12: 不明 | I12: 2
A13: 年齢 | B13: 20歳未満 | D13: 20～29歳 | F13: 30～39歳 | H13: 40～49歳
B14: 50～59歳 | C14: 3 | D14: 60～64歳 | F14: 65歳以上 | G14: 15 | H14: 不明
A15: 職業 | B15: 自営業 | C15: 1 | D15: 会社員 | E15: 2 | F15: 公務員 | H15: 主婦
B16: 無職 | C16: 13 | D16: その他 | E16: 2 | F16: 不明
A18: ③回答集計
A19: 質問の内容 | D19: 知っていた | E19: 知らなかった | I19: 未回答
A20: 指定管理者制度の導入について | D20: 15 | E20: 3
D21: 満足 | E21: やや満足 | F21: どちらとも いえない | G21: やや不満 | H21: 不満 | I21: 未回答
A22: 個人情報・プライバシーへの配慮について | D22: 6 | E22: 5 | F22: 5 | G22: 0 | H22: 0 | I22: 2
A23: 夜間休日等の緊急事態対応について | D23: 4 | E23: 4 | F23: 9 | G23: 0 | H23: 0 | I23: 1
A24: 電話・窓口対応について | D24: 7 | E24: 4 | F24: 6 | G24: 1 | H24: 0 | I24: 0
A25: 修繕必要時の対応について | D25: 2 | E25: 4 | F25: 8 | G25: 3 | H25: 1 | I25: 0
A26: 修繕工事の施工状況について | D26: 4 | E26: 7 | F26: 6 | G26: 0 | H26: 0 | I26: 1
A27: 建物の維持管理状況について | D27: 3 | E27: 4 | F27: 7 | G27: 3 | H27: 1 | I27: 0
A28: 共同施設の管理状況について | D28: 4 | E28: 5 | F28: 6 | G28: 0 | H28: 2 | I28: 1
A29: 維持管理以外の対応について | D29: 5 | E29: 4 | F29: 7 | G29: 0 | H29: 1 | I29: 1
A30: 指定管理者の全般的な管理状況について | D30: 4 | E30: 4 | F30: 9 | G30: 0 | H30: 0 | I30: 1
A31: 合計（件） | D31: =SUM(D22:D30) -> 39 | E31: =SUM(E22:E30) -> 41 | F31: =SUM(F22:F30) -> 63 | G31: =SUM(G22:G30) -> 7 | H31: =SUM(H22:H30) -> 5 | I31: =SUM(I22:I30) -> 7
A32: 割合（％） | D32: =IF(D31=0,"",ROUNDDOWN(D31/SUM($D$31:$H$31)*100,1)) -> 25.1 | E32: =IF(E31=0,"",ROUNDDOWN(E31/SUM($D$31:$H$31)*100,1)) -> 26.4 | F32: =IF(F31=0,"",ROUNDDOWN(F31/SUM($D$31:$H$31)*100,1)) -> 40.6 | G32: =IF(G31=0,"",ROUNDDOWN(G31/SUM($D$31:$H$31)*100,1)) -> 4.5 | H32: =IF(H31=0,"",ROUNDDOWN(H31/SUM($D$31:$H$31)*100,1)) -> 3.2

Sheet 深川
A1: =総計!A1 -> ○令和６年度道営住宅指定管理者満足度調査実施結果
A3: ①指定管理者
A4: 地区名 | B4: 深川市
A5: 指定管理者 | B5: ｴﾑｴﾑｴｽﾏﾝｼｮﾝﾏﾈｰｼﾞﾒﾝﾄｻｰﾋﾞｽ（株）
A6: 管理戸数 | B6: 114
A8: ②モニタリング回答者等
A9: 調査対象者 | B9: 23
A10: 全回答者数 | B10: =#REF! -> #REF!
A12: 性別 | B12: 男性 | C12: 2 | D12: 女性 | E12: 9 | F12: 不選択 | G12: 1 | H12: 不明 | I12: 1
A13: 年齢 | B13: 20歳未満 | D13: 20～29歳 | F13: 30～39歳 | G13: 1 | H13: 40～49歳 | I13: 1
B14: 50～59歳 | C14: 1 | D14: 60～64歳 | F14: 65歳以上 | G14: 10 | H14: 不明
A15: 職業 | B15: 自営業 | D15: 会社員 | E15: 1 | F15: 公務員 | H15: 主婦 | I15: 1
B16: 無職 | C16: 8 | D16: その他 | E16: 2 | F16: 不明 | G16: 1
A18: ③回答集計
A19: 質問の内容 | D19: 知っていた | E19: 知らなかった | I19: 未回答
A20: 指定管理者制度の導入について | D20: 9 | E20: 4
D21: 満足 | E21: やや満足 | F21: どちらとも いえない | G21: やや不満 | H21: 不満 | I21: 未回答
A22: 個人情報・プライバシーへの配慮について | D22: 4 | E22: 4 | F22: 5 | G22: 0 | H22: 0 | I22: 0
A23: 夜間休日等の緊急事態対応について | D23: 2 | E23: 1 | F23: 8 | G23: 1 | H23: 0 | I23: 1
A24: 電話・窓口対応について | D24: 6 | E24: 4 | F24: 1 | G24: 1 | H24: 0 | I24: 1
A25: 修繕必要時の対応について | D25: 3 | E25: 3 | F25: 5 | G25: 1 | H25: 0 | I25: 1
A26: 修繕工事の施工状況について | D26: 2 | E26: 4 | F26: 3 | G26: 2 | H26: 0 | I26: 2
A27: 建物の維持管理状況について | D27: 2 | E27: 4 | F27: 3 | G27: 1 | H27: 0 | I27: 3
A28: 共同施設の管理状況について | D28: 2 | E28: 3 | F28: 5 | G28: 0 | H28: 0 | I28: 3
A29: 維持管理以外の対応について | D29: 0 | E29: 2 | F29: 6 | G29: 3 | H29: 0 | I29: 2
A30: 指定管理者の全般的な管理状況について | D30: 1 | E30: 3 | F30: 3 | G30: 3 | H30: 0 | I30: 3
A31: 合計（件） | D31: =SUM(D22:D30) -> 22 | E31: =SUM(E22:E30) -> 28 | F31: =SUM(F22:F30) -> 39 | G31: =SUM(G22:G30) -> 12 | H31: =SUM(H22:H30) -> 0 | I31: =SUM(I22:I30) -> 16
A32: 割合（％） | D32: =IF(D31=0,"",ROUNDDOWN(D31/SUM($D$31:$H$31)*100,1)) -> 21.7 | E32: =IF(E31=0,"",ROUNDDOWN(E31/SUM($D$31:$H$31)*100,1)) -> 27.7 | F32: =IF(F31=0,"",ROUNDDOWN(F31/SUM($D$31:$H$31)*100,1)) -> 38.6 | G32: =IF(G31=0,"",ROUNDDOWN(G31/SUM($D$31:$H$31)*100,1)) -> 11.8 | H32: =IF(H31=0,"",ROUNDDOWN(H31/SUM($D$31:$H$31)*100,1))

Sheet 沼田
A1: =総計!A1 -> ○令和６年度道営住宅指定管理者満足度調査実施結果
A3: ①指定管理者
A4: 地区名 | B4: 沼田町
A5: 指定管理者 | B5: ｴﾑｴﾑｴｽﾏﾝｼｮﾝﾏﾈｰｼﾞﾒﾝﾄｻｰﾋﾞｽ（株）
A6: 管理戸数 | B6: 53
A8: ②モニタリング回答者等
A9: 調査対象者 | B9: 20
A10: 全回答者数 | B10: =#REF! -> #REF!
A12: 性別 | B12: 男性 | C12: 6 | D12: 女性 | E12: 5 | F12: 不選択 | H12: 不明 | I12: 1
A13: 年齢 | B13: 20歳未満 | D13: 20～29歳 | F13: 30～39歳 | H13: 40～49歳 | I13: 1
B14: 50～59歳 | C14: 3 | D14: 60～64歳 | E14: 1 | F14: 65歳以上 | G14: 6 | H14: 不明 | I14: 1
A15: 職業 | B15: 自営業 | C15: 1 | D15: 会社員 | E15: 4 | F15: 公務員 | G15: 1 | H15: 主婦
B16: 無職 | C16: 4 | D16: その他 | E16: 1 | F16: 不明 | G16: 1
A18: ③回答集計
A19: 質問の内容 | D19: 知っていた | E19: 知らなかった | I19: 未回答
A20: 指定管理者制度の導入について | D20: 12
D21: 満足 | E21: やや満足 | F21: どちらとも いえない | G21: やや不満 | H21: 不満 | I21: 未回答
A22: 個人情報・プライバシーへの配慮について | D22: 5 | E22: 2 | F22: 4 | G22: 0 | H22: 1 | I22: 0
A23: 夜間休日等の緊急事態対応について | D23: 1 | E23: 2 | F23: 7 | G23: 0 | H23: 1 | I23: 1
A24: 電話・窓口対応について | D24: 3 | E24: 7 | F24: 1 | G24: 0 | H24: 0 | I24: 1
A25: 修繕必要時の対応について | D25: 3 | E25: 5 | F25: 3 | G25: 0 | H25: 1 | I25: 0
A26: 修繕工事の施工状況について | D26: 3 | E26: 5 | F26: 3 | G26: 0 | H26: 0 | I26: 1
A27: 建物の維持管理状況について | D27: 1 | E27: 1 | F27: 9 | G27: 0 | H27: 0 | I27: 1
A28: 共同施設の管理状況について | D28: 1 | E28: 2 | F28: 5 | G28: 2 | H28: 0 | I28: 2
A29: 維持管理以外の対応について | D29: 2 | E29: 3 | F29: 4 | G29: 1 | H29: 1 | I29: 1
A30: 指定管理者の全般的な管理状況について | D30: 2 | E30: 2 | F30: 6 | G30: 1 | H30: 0 | I30: 1
A31: 合計（件） | D31: =SUM(D22:D30) -> 21 | E31: =SUM(E22:E30) -> 29 | F31: =SUM(F22:F30) -> 42 | G31: =SUM(G22:G30) -> 4 | H31: =SUM(H22:H30) -> 4 | I31: =SUM(I22:I30) -> 8
A32: 割合（％） | D32: =IF(D31=0,"",ROUNDDOWN(D31/SUM($D$31:$H$31)*100,1)) -> 21 | E32: =IF(E31=0,"",ROUNDDOWN(E31/SUM($D$31:$H$31)*100,1)) -> 29 | F32: =IF(F31=0,"",ROUNDDOWN(F31/SUM($D$31:$H$31)*100,1)) -> 42 | G32: =IF(G31=0,"",ROUNDDOWN(G31/SUM($D$31:$H$31)*100,1)) -> 4 | H32: =IF(H31=0,"",ROUNDDOWN(H31/SUM($D$31:$H$31)*100,1)) -> 4

Sheet 札幌・千歳恵庭圏
A1: =総計!A1 -> ○令和６年度道営住宅指定管理者満足度調査実施結果
A3: ①指定管理者
A4: 地区名 | B4: 札幌圏・千歳恵庭圏
A5: 指定管理者 | B5: （一財）北海道住宅管理公社
A6: 管理戸数 | B6: 8214
A8: ②モニタリング回答者等
A9: 調査対象者 | B9: 1641
A10: 全回答者数 | B10: =#REF! -> #REF!
A12: 性別 | B12: 男性 | C12: 336 | D12: 女性 | E12: 520 | F12: 不選択 | G12: 13 | H12: 不明 | I12: 20
A13: 年齢 | B13: 20歳未満 | D13: 20～29歳 | F13: 30～39歳 | G13: 9 | H13: 40～49歳 | I13: 40
B14: 50～59歳 | C14: 115 | D14: 60～64歳 | E14: 89 | F14: 65歳以上 | G14: 632 | H14: 不明 | I14: 4
A15: 職業 | B15: 自営業 | C15: 24 | D15: 会社員 | E15: 154 | F15: 公務員 | G15: 2 | H15: 主婦 | I15: 91
B16: 無職 | C16: 471 | D16: その他 | E16: 119 | F16: 不明 | G16: 28
A18: ③回答集計
A19: 質問の内容 | D19: 知っていた | E19: 知らなかった | I19: 未回答
A20: 指定管理者制度の導入について | D20: 272 | E20: 607 | I20: 10
D21: 満足 | E21: やや満足 | F21: どちらとも いえない | G21: やや不満 | H21: 不満 | I21: 未回答
A22: 個人情報・プライバシーへの配慮について | D22: 287 | E22: 179 | F22: 384 | G22: 22 | H22: 5 | I22: 12
A23: 夜間休日等の緊急事態対応について | D23: 183 | E23: 152 | F23: 463 | G23: 19 | H23: 10 | I23: 62
A24: 電話・窓口対応について | D24: 339 | E24: 246 | F24: 249 | G24: 20 | H24: 19 | I24: 16
A25: 修繕必要時の対応について | D25: 272 | E25: 216 | F25: 269 | G25: 24 | H25: 32 | I25: 76
A26: 修繕工事の施工状況について | D26: 282 | E26: 199 | F26: 282 | G26: 35 | H26: 17 | I26: =84-10 -> 74
A27: 建物の維持管理状況について | D27: 165 | E27: 184 | F27: 353 | G27: 72 | H27: 47 | I27: 68
A28: 共同施設の管理状況について | D28: 190 | E28: 160 | F28: 361 | G28: 38 | H28: 26 | I28: 114
A29: 維持管理以外の対応について | D29: 179 | E29: 180 | F29: 425 | G29: 11 | H29: 16 | I29: 78
A30: 指定管理者の全般的な管理状況について | D30: 189 | E30: 203 | F30: 385 | G30: 19 | H30: 13 | I30: 80
A31: 合計（件） | D31: =SUM(D22:D30) -> 2086 | E31: =SUM(E22:E30) -> 1719 | F31: =SUM(F22:F30) -> 3171 | G31: =SUM(G22:G30) -> 260 | H31: =SUM(H22:H30) -> 185 | I31: =SUM(I22:I30) -> 580
A32: 割合（％） | D32: =IF(D31=0,"",ROUNDDOWN(D31/SUM($D$31:$H$31)*100,1)) -> 28.1 | E32: =IF(E31=0,"",ROUNDDOWN(E31/SUM($D$31:$H$31)*100,1)) -> 23.1 | F32: =IF(F31=0,"",ROUNDDOWN(F31/SUM($D$31:$H$31)*100,1)) -> 42.7 | G32: =IF(G31=0,"",ROUNDDOWN(G31/SUM($D$31:$H$31)*100,1)) -> 3.5 | H32: =IF(H31=0,"",ROUNDDOWN(H31/SUM($D$31:$H$31)*100,1)) -> 2.4

Sheet 小樽
A1: =総計!A1 -> ○令和６年度道営住宅指定管理者満足度調査実施結果
A3: ①指定管理者
A4: 地区名 | B4: 小樽市
A5: 指定管理者 | B5: （一財）北海道住宅管理公社
A6: 管理戸数 | B6: 1184
A8: ②モニタリング回答者等
A9: 調査対象者 | B9: 237
A10: 全回答者数 | B10: =#REF! -> #REF!
A12: 性別 | B12: 男性 | C12: 38 | D12: 女性 | E12: 52 | F12: 不選択 | G12: 10 | H12: 不明
A13: 年齢 | B13: 20歳未満 | D13: 20～29歳 | F13: 30～39歳 | G13: 6 | H13: 40～49歳 | I13: 14
B14: 50～59歳 | C14: 38 | D14: 60～64歳 | E14: 9 | F14: 65歳以上 | G14: 29 | H14: 不明 | I14: 4
A15: 職業 | B15: 自営業 | C15: 4 | D15: 会社員 | E15: 50 | F15: 公務員 | G15: 1 | H15: 主婦 | I15: 8
B16: 無職 | C16: 15 | D16: その他 | E16: 15 | F16: 不明 | G16: 7
A18: ③回答集計
A19: 質問の内容 | D19: 知っていた | E19: 知らなかった | I19: 未回答
A20: 指定管理者制度の導入について | D20: 42 | E20: 54 | I20: 4
D21: 満足 | E21: やや満足 | F21: どちらとも いえない | G21: やや不満 | H21: 不満 | I21: 未回答
A22: 個人情報・プライバシーへの配慮について | D22: 31 | E22: 21 | F22: 42 | I22: 6
A23: 夜間休日等の緊急事態対応について | D23: 10 | E23: 12 | F23: 59 | G23: 2 | H23: 5 | I23: 12
A24: 電話・窓口対応について | D24: 31 | E24: 26 | F24: 34 | G24: 4 | I24: 5
A25: 修繕必要時の対応について | D25: 21 | E25: 25 | F25: 37 | G25: 6 | H25: 3 | I25: 8
A26: 修繕工事の施工状況について | D26: 23 | E26: 30 | F26: 33 | G26: 3 | H26: 3 | I26: 8
A27: 建物の維持管理状況について | D27: 6 | E27: 22 | F27: 47 | G27: 9 | H27: 8 | I27: 8
A28: 共同施設の管理状況について | D28: 10 | E28: 20 | F28: 55 | G28: 3 | H28: 3 | I28: 9
A29: 維持管理以外の対応について | D29: 14 | E29: 20 | F29: 56 | G29: 1 | I29: 9
A30: 指定管理者の全般的な管理状況について | D30: 15 | E30: 21 | F30: 51 | G30: 2 | H30: 1 | I30: 10
A31: 合計（件） | D31: =SUM(D22:D30) -> 161 | E31: =SUM(E22:E30) -> 197 | F31: =SUM(F22:F30) -> 414 | G31: =SUM(G22:G30) -> 30 | H31: =SUM(H22:H30) -> 23 | I31: =SUM(I22:I30) -> 75
A32: 割合（％） | D32: =IF(D31=0,"",ROUNDDOWN(D31/SUM($D$31:$H$31)*100,1)) -> 19.5 | E32: =IF(E31=0,"",ROUNDDOWN(E31/SUM($D$31:$H$31)*100,1)) -> 23.8 | F32: =IF(F31=0,"",ROUNDDOWN(F31/SUM($D$31:$H$31)*100,1)) -> 50.1 | G32: =IF(G31=0,"",ROUNDDOWN(G31/SUM($D$31:$H$31)*100,1)) -> 3.6 | H32: =IF(H31=0,"",ROUNDDOWN(H31/SUM($D$31:$H$31)*100,1)) -> 2.7

Sheet 倶知安
A1: =総計!A1 -> ○令和６年度道営住宅指定管理者満足度調査実施結果
A3: ①指定管理者
A4: 地区名 | B4: 倶知安町
A5: 指定管理者 | B5: ｴﾑｴﾑｴｽﾏﾝｼｮﾝﾏﾈｰｼﾞﾒﾝﾄｻｰﾋﾞｽ（株）
A6: 管理戸数 | B6: 129
A8: ②モニタリング回答者等
A9: 調査対象者 | B9: 26
A10: 全回答者数 | B10: =#REF! -> #REF!
A12: 性別 | B12: 男性 | D12: 女性 | E12: 8 | F12: 不選択 | G12: 1 | H12: 不明
A13: 年齢 | B13: 20歳未満 | D13: 20～29歳 | E13: 1 | F13: 30～39歳 | G13: 2 | H13: 40～49歳 | I13: 4
B14: 50～59歳 | C14: 1 | D14: 60～64歳 | F14: 65歳以上 | G14: 1 | H14: 不明
A15: 職業 | B15: 自営業 | D15: 会社員 | E15: 5 | F15: 公務員 | H15: 主婦 | I15: 1
B16: 無職 | C16: 2 | D16: その他 | F16: 不明 | G16: 1
A18: ③回答集計
A19: 質問の内容 | D19: 知っていた | E19: 知らなかった | I19: 未回答
A20: 指定管理者制度の導入について | D20: 6 | E20: 3
D21: 満足 | E21: やや満足 | F21: どちらとも いえない | G21: やや不満 | H21: 不満 | I21: 未回答
A22: 個人情報・プライバシーへの配慮について | D22: 3 | E22: 1 | F22: 5
A23: 夜間休日等の緊急事態対応について | D23: 3 | E23: 1 | F23: 3 | G23: 1 | H23: 1
A24: 電話・窓口対応について | D24: 3 | E24: 2 | F24: 2 | G24: 2
A25: 修繕必要時の対応について | D25: 1 | E25: 3 | F25: 3 | G25: 1 | H25: 1
A26: 修繕工事の施工状況について | D26: 1 | E26: 2 | F26: 2 | G26: 2 | H26: 1 | I26: 1
A27: 建物の維持管理状況について | D27: 1 | E27: 2 | F27: 1 | G27: 4 | H27: 1
A28: 共同施設の管理状況について | D28: 1 | E28: 2 | F28: 2 | G28: 2 | H28: 1 | I28: 1
A29: 維持管理以外の対応について | D29: 2 | E29: 3 | F29: 3 | I29: 1
A30: 指定管理者の全般的な管理状況について | D30: 3 | E30: 1 | F30: 4 | I30: 1
A31: 合計（件） | D31: =SUM(D22:D30) -> 18 | E31: =SUM(E22:E30) -> 17 | F31: =SUM(F22:F30) -> 25 | G31: =SUM(G22:G30) -> 12 | H31: =SUM(H22:H30) -> 5 | I31: =SUM(I22:I30) -> 4
A32: 割合（％） | D32: =IF(D31=0,"",ROUNDDOWN(D31/SUM($D$31:$H$31)*100,1)) -> 23.3 | E32: =IF(E31=0,"",ROUNDDOWN(E31/SUM($D$31:$H$31)*100,1)) -> 22 | F32: =IF(F31=0,"",ROUNDDOWN(F31/SUM($D$31:$H$31)*100,1)) -> 32.4 | G32: =IF(G31=0,"",ROUNDDOWN(G31/SUM($D$31:$H$31)*100,1)) -> 15.5 | H32: =IF(H31=0,"",ROUNDDOWN(H31/SUM($D$31:$H$31)*100,1)) -> 6.4

Sheet 岩内
A1: =総計!A1 -> ○令和６年度道営住宅指定管理者満足度調査実施結果
A3: ①指定管理者
A4: 地区名 | B4: 岩内町
A5: 指定管理者 | B5: ｴﾑｴﾑｴｽﾏﾝｼｮﾝﾏﾈｰｼﾞﾒﾝﾄｻｰﾋﾞｽ（株）
A6: 管理戸数 | B6: 124
A8: ②モニタリング回答者等
A9: 調査対象者 | B9: 25
A10: 全回答者数 | B10: =#REF! -> #REF!
A12: 性別 | B12: 男性 | C12: 3 | D12: 女性 | E12: 2 | F12: 不選択 | H12: 不明 | I12: 1
A13: 年齢 | B13: 20歳未満 | D13: 20～29歳 | F13: 30～39歳 | H13: 40～49歳
B14: 50～59歳 | C14: 3 | D14: 60～64歳 | F14: 65歳以上 | G14: 2 | H14: 不明 | I14: 1
A15: 職業 | B15: 自営業 | D15: 会社員 | E15: 2 | F15: 公務員 | H15: 主婦
B16: 無職 | C16: 2 | D16: その他 | E16: 1 | F16: 不明 | G16: 1
A18: ③回答集計
A19: 質問の内容 | D19: 知っていた | E19: 知らなかった | I19: 未回答
A20: 指定管理者制度の導入について | D20: 4 | E20: 1 | I20: 1
D21: 満足 | E21: やや満足 | F21: どちらとも いえない | G21: やや不満 | H21: 不満 | I21: 未回答
A22: 個人情報・プライバシーへの配慮について | D22: 3 | F22: 2 | I22: 1
A23: 夜間休日等の緊急事態対応について | D23: 2 | F23: 2 | H23: 1 | I23: 1
A24: 電話・窓口対応について | D24: 2 | F24: 2 | G24: 1 | I24: 1
A25: 修繕必要時の対応について | D25: 1 | E25: 1 | H25: 1 | I25: 3
A26: 修繕工事の施工状況について | D26: 1 | E26: 1 | H26: 1 | I26: 3
A27: 建物の維持管理状況について | D27: 1 | F27: 1 | G27: 1 | I27: 3
A28: 共同施設の管理状況について | D28: 1 | F28: 1 | H28: 1 | I28: 3
A29: 維持管理以外の対応について | D29: 1 | F29: 1 | G29: 1 | I29: 3
A30: 指定管理者の全般的な管理状況について | D30: 1 | E30: 1 | H30: 1 | I30: 3
A31: 合計（件） | D31: =SUM(D22:D30) -> 13 | E31: =SUM(E22:E30) -> 3 | F31: =SUM(F22:F30) -> 9 | G31: =SUM(G22:G30) -> 3 | H31: =SUM(H22:H30) -> 5 | I31: =SUM(I22:I30) -> 21
A32: 割合（％） | D32: =IF(D31=0,"",ROUNDDOWN(D31/SUM($D$31:$H$31)*100,1)) -> 39.3 | E32: =IF(E31=0,"",ROUNDDOWN(E31/SUM($D$31:$H$31)*100,1)) -> 9 | F32: =IF(F31=0,"",ROUNDDOWN(F31/SUM($D$31:$H$31)*100,1)) -> 27.2 | G32: =IF(G31=0,"",ROUNDDOWN(G31/SUM($D$31:$H$31)*100,1)) -> 9 | H32: =IF(H31=0,"",ROUNDDOWN(H31/SUM($D$31:$H$31)*100,1)) -> 15.1

Sheet 余市
A1: =総計!A1 -> ○令和６年度道営住宅指定管理者満足度調査実施結果
A3: ①指定管理者
A4: 地区名 | B4: 余市町
A5: 指定管理者 | B5: ｴﾑｴﾑｴｽﾏﾝｼｮﾝﾏﾈｰｼﾞﾒﾝﾄｻｰﾋﾞｽ（株）
A6: 管理戸数 | B6: 22
A8: ②モニタリング回答者等
A9: 調査対象者 | B9: 20
A10: 全回答者数 | B10: =#REF! -> #REF!
A12: 性別 | B12: 男性 | C12: 3 | D12: 女性 | E12: 8 | F12: 不選択 | G12: 1 | H12: 不明
A13: 年齢 | B13: 20歳未満 | D13: 20～29歳 | E13: 1 | F13: 30～39歳 | G13: 2 | H13: 40～49歳 | I13: 4
B14: 50～59歳 | C14: 1 | D14: 60～64歳 | F14: 65歳以上 | G14: 4 | H14: 不明
A15: 職業 | B15: 自営業 | C15: 1 | D15: 会社員 | E15: 3 | F15: 公務員 | H15: 主婦 | I15: 1
B16: 無職 | C16: 6 | D16: その他 | E16: 1 | F16: 不明
A18: ③回答集計
A19: 質問の内容 | D19: 知っていた | E19: 知らなかった | I19: 未回答
A20: 指定管理者制度の導入について | D20: 8 | E20: 4
D21: 満足 | E21: やや満足 | F21: どちらとも いえない | G21: やや不満 | H21: 不満 | I21: 未回答
A22: 個人情報・プライバシーへの配慮について | D22: 4 | E22: 3 | F22: 5
A23: 夜間休日等の緊急事態対応について | D23: 2 | E23: 1 | F23: 8 | I23: 1
A24: 電話・窓口対応について | D24: 5 | E24: 3 | F24: 4
A25: 修繕必要時の対応について | D25: 2 | E25: 1 | F25: 7 | I25: 2
A26: 修繕工事の施工状況について | D26: 2 | E26: 1 | F26: 7 | I26: 2
A27: 建物の維持管理状況について | D27: 3 | E27: 2 | F27: 5 | H27: 2
A28: 共同施設の管理状況について | D28: 3 | E28: 1 | F28: 7 | G28: 1
A29: 維持管理以外の対応について | D29: 4 | E29: 1 | F29: 5 | H29: 1 | I29: 1
A30: 指定管理者の全般的な管理状況について | D30: 4 | E30: 1 | F30: 5 | G30: 2
A31: 合計（件） | D31: =SUM(D22:D30) -> 29 | E31: =SUM(E22:E30) -> 14 | F31: =SUM(F22:F30) -> 53 | G31: =SUM(G22:G30) -> 3 | H31: =SUM(H22:H30) -> 3 | I31: =SUM(I22:I30) -> 6
A32: 割合（％） | D32: =IF(D31=0,"",ROUNDDOWN(D31/SUM($D$31:$H$31)*100,1)) -> 28.4 | E32: =IF(E31=0,"",ROUNDDOWN(E31/SUM($D$31:$H$31)*100,1)) -> 13.7 | F32: =IF(F31=0,"",ROUNDDOWN(F31/SUM($D$31:$H$31)*100,1)) -> 51.9 | G32: =IF(G31=0,"",ROUNDDOWN(G31/SUM($D$31:$H$31)*100,1)) -> 2.9 | H32: =IF(H31=0,"",ROUNDDOWN(H31/SUM($D$31:$H$31)*100,1)) -> 2.9

Sheet 室蘭
A1: =総計!A1 -> ○令和６年度道営住宅指定管理者満足度調査実施結果
A3: ①指定管理者
A4: 地区名 | B4: 室蘭圏
A5: 指定管理者 | B5: （株）日動
A6: 管理戸数 | B6: 1256
A8: ②モニタリング回答者等
A9: 調査対象者 | B9: 251
A10: 全回答者数 | B10: =#REF! -> #REF!
A12: 性別 | B12: 男性 | C12: 59 | D12: 女性 | E12: 56 | F12: 不選択 | G12: 6 | H12: 不明 | I12: 8
A13: 年齢 | B13: 20歳未満 | C13: 1 | D13: 20～29歳 | E13: 2 | F13: 30～39歳 | G13: 7 | H13: 40～49歳 | I13: 5
B14: 50～59歳 | C14: 20 | D14: 60～64歳 | E14: 12 | F14: 65歳以上 | G14: 81 | H14: 不明 | I14: 1
A15: 職業 | B15: 自営業 | C15: 2 | D15: 会社員 | E15: 35 | F15: 公務員 | H15: 主婦 | I15: 12
B16: 無職 | C16: 54 | D16: その他 | E16: 26 | F16: 不明
A18: ③回答集計
A19: 質問の内容 | D19: 知っていた | E19: 知らなかった | I19: 未回答
A20: 指定管理者制度の導入について | D20: 84 | E20: 44 | I20: 1
D21: 満足 | E21: やや満足 | F21: どちらとも いえない | G21: やや不満 | H21: 不満 | I21: 未回答
A22: 個人情報・プライバシーへの配慮について | D22: 47 | E22: 21 | F22: 54 | G22: 2 | H22: 3 | I22: 2
A23: 夜間休日等の緊急事態対応について | D23: 28 | E23: 13 | F23: 76 | G23: 3 | H23: 5 | I23: 4
A24: 電話・窓口対応について | D24: 47 | E24: 33 | F24: 41 | G24: 4 | H24: 4
A25: 修繕必要時の対応について | D25: 39 | E25: 27 | F25: 49 | G25: 5 | H25: 4 | I25: 5
A26: 修繕工事の施工状況について | D26: 44 | E26: 21 | F26: 55 | G26: 4 | H26: 1 | I26: 4
A27: 建物の維持管理状況について | D27: 32 | E27: 22 | F27: 53 | G27: 10 | H27: 7 | I27: 5
A28: 共同施設の管理状況について | D28: 36 | E28: 18 | F28: 46 | G28: 7 | H28: 4 | I28: 18
A29: 維持管理以外の対応について | D29: 31 | E29: 24 | F29: 59 | G29: 2 | H29: 3 | I29: 10
A30: 指定管理者の全般的な管理状況について | D30: 31 | E30: 27 | F30: 53 | G30: 4 | H30: 6 | I30: 8
A31: 合計（件） | D31: =SUM(D22:D30) -> 335 | E31: =SUM(E22:E30) -> 206 | F31: =SUM(F22:F30) -> 486 | G31: =SUM(G22:G30) -> 41 | H31: =SUM(H22:H30) -> 37 | I31: =SUM(I22:I30) -> 56
A32: 割合（％） | D32: =IF(D31=0,"",ROUNDDOWN(D31/SUM($D$31:$H$31)*100,1)) -> 30.3 | E32: =IF(E31=0,"",ROUNDDOWN(E31/SUM($D$31:$H$31)*100,1)) -> 18.6 | F32: =IF(F31=0,"",ROUNDDOWN(F31/SUM($D$31:$H$31)*100,1)) -> 43.9 | G32: =IF(G31=0,"",ROUNDDOWN(G31/SUM($D$31:$H$31)*100,1)) -> 3.7 | H32: =IF(H31=0,"",ROUNDDOWN(H31/SUM($D$31:$H$31)*100,1)) -> 3.3

Sheet 苫小牧
A1: =総計!A1 -> ○令和６年度道営住宅指定管理者満足度調査実施結果
A3: ①指定管理者
A4: 地区名 | B4: 苫小牧市
A5: 指定管理者 | B5: ｴﾑｴﾑｴｽﾏﾝｼｮﾝﾏﾈｰｼﾞﾒﾝﾄｻｰﾋﾞｽ（株）
A6: 管理戸数 | B6: 869
A8: ②モニタリング回答者等
A9: 調査対象者 | B9: 174
A10: 全回答者数 | B10: =#REF! -> #REF!
A12: 性別 | B12: 男性 | C12: 35 | D12: 女性 | E12: 50 | F12: 不選択 | G12: 2 | H12: 不明 | I12: 6
A13: 年齢 | B13: 20歳未満 | D13: 20～29歳 | E13: 1 | F13: 30～39歳 | G13: 1 | H13: 40～49歳 | I13: 4
B14: 50～59歳 | C14: 11 | D14: 60～64歳 | E14: 7 | F14: 65歳以上 | G14: 67 | H14: 不明 | I14: 2
A15: 職業 | B15: 自営業 | C15: 1 | D15: 会社員 | E15: 10 | F15: 公務員 | H15: 主婦 | I15: 8
B16: 無職 | C16: 48 | D16: その他 | E16: 21 | F16: 不明 | G16: 5
A18: ③回答集計
A19: 質問の内容 | D19: 知っていた | E19: 知らなかった | I19: 未回答
A20: 指定管理者制度の導入について | D20: 65 | E20: 27 | I20: 1
D21: 満足 | E21: やや満足 | F21: どちらとも いえない | G21: やや不満 | H21: 不満 | I21: 未回答
A22: 個人情報・プライバシーへの配慮について | D22: 28 | E22: 28 | F22: 27 | G22: 2 | H22: 5 | I22: 3
A23: 夜間休日等の緊急事態対応について | D23: 19 | E23: 12 | F23: 44 | G23: 4 | H23: 2 | I23: 12
A24: 電話・窓口対応について | D24: 35 | E24: 29 | F24: 26 | G24: 2 | H24: 1
A25: 修繕必要時の対応について | D25: 25 | E25: 21 | F25: 27 | G25: 7 | H25: 3 | I25: 10
A26: 修繕工事の施工状況について | D26: 18 | E26: 22 | F26: 38 | G26: 3 | H26: 2 | I26: 10
A27: 建物の維持管理状況について | D27: 15 | E27: 17 | F27: 40 | G27: 4 | H27: 5 | I27: 12
A28: 共同施設の管理状況について | D28: 21 | E28: 19 | F28: 30 | G28: 3 | H28: 2 | I28: 18
A29: 維持管理以外の対応について | D29: 24 | E29: 18 | F29: 37 | H29: 4 | I29: 10
A30: 指定管理者の全般的な管理状況について | D30: 29 | E30: 17 | F30: 31 | G30: 4 | H30: 4 | I30: 8
A31: 合計（件） | D31: =SUM(D22:D30) -> 214 | E31: =SUM(E22:E30) -> 183 | F31: =SUM(F22:F30) -> 300 | G31: =SUM(G22:G30) -> 29 | H31: =SUM(H22:H30) -> 28 | I31: =SUM(I22:I30) -> 83
A32: 割合（％） | D32: =IF(D31=0,"",ROUNDDOWN(D31/SUM($D$31:$H$31)*100,1)) -> 28.3 | E32: =IF(E31=0,"",ROUNDDOWN(E31/SUM($D$31:$H$31)*100,1)) -> 24.2 | F32: =IF(F31=0,"",ROUNDDOWN(F31/SUM($D$31:$H$31)*100,1)) -> 39.7 | G32: =IF(G31=0,"",ROUNDDOWN(G31/SUM($D$31:$H$31)*100,1)) -> 3.8 | H32: =IF(H31=0,"",ROUNDDOWN(H31/SUM($D$31:$H$31)*100,1)) -> 3.7

Sheet 浦河
A1: =総計!A1 -> ○令和６年度道営住宅指定管理者満足度調査実施結果
A3: ①指定管理者
A4: 地区名 | B4: 浦河町
A5: 指定管理者 | B5: ｴﾑｴﾑｴｽﾏﾝｼｮﾝﾏﾈｰｼﾞﾒﾝﾄｻｰﾋﾞｽ（株）
A6: 管理戸数 | B6: 60
A8: ②モニタリング回答者等
A9: 調査対象者 | B9: 20
A10: 全回答者数 | B10: =#REF! -> #REF!
A12: 性別 | B12: 男性 | C12: 6 | D12: 女性 | E12: 6 | F12: 不選択 | G12: 1 | H12: 不明 | I12: 1
A13: 年齢 | B13: 20歳未満 | D13: 20～29歳 | F13: 30～39歳 | G13: 1 | H13: 40～49歳 | I13: 2
B14: 50～59歳 | D14: 60～64歳 | E14: 1 | F14: 65歳以上 | G14: 10 | H14: 不明
A15: 職業 | B15: 自営業 | D15: 会社員 | E15: 4 | F15: 公務員 | H15: 主婦
B16: 無職 | C16: 8 | D16: その他 | E16: 1 | F16: 不明 | G16: 1
A18: ③回答集計
A19: 質問の内容 | D19: 知っていた | E19: 知らなかった | I19: 未回答
A20: 指定管理者制度の導入について | D20: 13 | E20: 1
D21: 満足 | E21: やや満足 | F21: どちらとも いえない | G21: やや不満 | H21: 不満 | I21: 未回答
A22: 個人情報・プライバシーへの配慮について | D22: 4 | E22: 2 | F22: 7 | I22: 1
A23: 夜間休日等の緊急事態対応について | D23: 3 | E23: 1 | F23: 9 | I23: 1
A24: 電話・窓口対応について | D24: 7 | E24: 4 | F24: 3
A25: 修繕必要時の対応について | D25: 5 | F25: 6 | G25: 2 | H25: 1
A26: 修繕工事の施工状況について | D26: 3 | E26: 3 | F26: 7 | H26: 1
A27: 建物の維持管理状況について | D27: 3 | E27: 1 | F27: 5 | G27: 4 | H27: 1
A28: 共同施設の管理状況について | D28: 2 | F28: 5 | H28: 4 | I28: 3
A29: 維持管理以外の対応について | D29: 3 | F29: 11
A30: 指定管理者の全般的な管理状況について | D30: 4 | E30: 2 | F30: 8
A31: 合計（件） | D31: =SUM(D22:D30) -> 34 | E31: =SUM(E22:E30) -> 13 | F31: =SUM(F22:F30) -> 61 | G31: =SUM(G22:G30) -> 6 | H31: =SUM(H22:H30) -> 7 | I31: =SUM(I22:I30) -> 5
A32: 割合（％） | D32: =IF(D31=0,"",ROUNDDOWN(D31/SUM($D$31:$H$31)*100,1)) -> 28 | E32: =IF(E31=0,"",ROUNDDOWN(E31/SUM($D$31:$H$31)*100,1)) -> 10.7 | F32: =IF(F31=0,"",ROUNDDOWN(F31/SUM($D$31:$H$31)*100,1)) -> 50.4 | G32: =IF(G31=0,"",ROUNDDOWN(G31/SUM($D$31:$H$31)*100,1)) -> 4.9 | H32: =IF(H31=0,"",ROUNDDOWN(H31/SUM($D$31:$H$31)*100,1)) -> 5.7

Sheet 新ひだか
A1: =総計!A1 -> ○令和６年度道営住宅指定管理者満足度調査実施結果
A3: ①指定管理者
A4: 地区名 | B4: 新ひだか町
A5: 指定管理者 | B5: ｴﾑｴﾑｴｽﾏﾝｼｮﾝﾏﾈｰｼﾞﾒﾝﾄｻｰﾋﾞｽ（株）
A6: 管理戸数 | B6: 77
A8: ②モニタリング回答者等
A9: 調査対象者 | B9: 20
A10: 全回答者数 | B10: =#REF! -> #REF!
A12: 性別 | B12: 男性 | C12: 1 | D12: 女性 | E12: 9 | F12: 不選択 | H12: 不明
A13: 年齢 | B13: 20歳未満 | D13: 20～29歳 | F13: 30～39歳 | G13: 1 | H13: 40～49歳 | I13: 1
B14: 50～59歳 | D14: 60～64歳 | F14: 65歳以上 | G14: 6 | H14: 不明 | I14: 2
A15: 職業 | B15: 自営業 | D15: 会社員 | E15: 1 | F15: 公務員 | H15: 主婦 | I15: 1
B16: 無職 | C16: 5 | D16: その他 | E16: 3 | F16: 不明
A18: ③回答集計
A19: 質問の内容 | D19: 知っていた | E19: 知らなかった | I19: 未回答
A20: 指定管理者制度の導入について | D20: 8 | E20: 2
D21: 満足 | E21: やや満足 | F21: どちらとも いえない | G21: やや不満 | H21: 不満 | I21: 未回答
A22: 個人情報・プライバシーへの配慮について | D22: 3 | E22: 1 | F22: 4 | H22: 1 | I22: 1
A23: 夜間休日等の緊急事態対応について | D23: 1 | F23: 7 | I23: 2
A24: 電話・窓口対応について | D24: 5 | E24: 1 | F24: 4
A25: 修繕必要時の対応について | D25: 2 | E25: 1 | F25: 5 | H25: 2
A26: 修繕工事の施工状況について | D26: 2 | E26: 2 | F26: 5 | H26: 1
A27: 建物の維持管理状況について | D27: 2 | E27: 3 | F27: 4 | H27: 1
A28: 共同施設の管理状況について | D28: 2 | E28: 2 | F28: 3 | G28: 1 | H28: 1 | I28: 1
A29: 維持管理以外の対応について | D29: 2 | E29: 4 | F29: 3 | H29: 1
A30: 指定管理者の全般的な管理状況について | D30: 4 | E30: 2 | F30: 3 | H30: 1
A31: 合計（件） | D31: =SUM(D22:D30) -> 23 | E31: =SUM(E22:E30) -> 16 | F31: =SUM(F22:F30) -> 38 | G31: =SUM(G22:G30) -> 1 | H31: =SUM(H22:H30) -> 8 | I31: =SUM(I22:I30) -> 4
A32: 割合（％） | D32: =IF(D31=0,"",ROUNDDOWN(D31/SUM($D$31:$H$31)*100,1)) -> 26.7 | E32: =IF(E31=0,"",ROUNDDOWN(E31/SUM($D$31:$H$31)*100,1)) -> 18.6 | F32: =IF(F31=0,"",ROUNDDOWN(F31/SUM($D$31:$H$31)*100,1)) -> 44.1 | G32: =IF(G31=0,"",ROUNDDOWN(G31/SUM($D$31:$H$31)*100,1)) -> 1.1 | H32: =IF(H31=0,"",ROUNDDOWN(H31/SUM($D$31:$H$31)*100,1)) -> 9.3

Sheet 函館
A1: =総計!A1 -> ○令和６年度道営住宅指定管理者満足度調査実施結果
A3: ①指定管理者
A4: 地区名 | B4: 函館圏
A5: 指定管理者 | B5: （一財）函館市住宅都市施設公社
A6: 管理戸数 | B6: 2047
A8: ②モニタリング回答者等
A9: 調査対象者 | B9: 414
A10: 全回答者数 | B10: =#REF! -> #REF!
A12: 性別 | B12: 男性 | C12: 111 | D12: 女性 | E12: 124 | F12: 不選択 | G12: 3 | H12: 不明 | I12: 7
A13: 年齢 | B13: 20歳未満 | D13: 20～29歳 | E13: 2 | F13: 30～39歳 | G13: 4 | H13: 40～49歳 | I13: 23
B14: 50～59歳 | C14: 27 | D14: 60～64歳 | E14: 21 | F14: 65歳以上 | G14: 165 | H14: 不明 | I14: 3
A15: 職業 | B15: 自営業 | C15: 7 | D15: 会社員 | E15: 48 | F15: 公務員 | G15: 2 | H15: 主婦 | I15: 21
B16: 無職 | C16: 132 | D16: その他 | E16: 30 | F16: 不明 | G16: 5
A18: ③回答集計
A19: 質問の内容 | D19: 知っていた | E19: 知らなかった | I19: 未回答
A20: 指定管理者制度の導入について | D20: 116 | E20: 127 | I20: 2
D21: 満足 | E21: やや満足 | F21: どちらとも いえない | G21: やや不満 | H21: 不満 | I21: 未回答
A22: 個人情報・プライバシーへの配慮について | D22: 82 | E22: 65 | F22: 86 | G22: 4 | H22: 2 | I22: 6
A23: 夜間休日等の緊急事態対応について | D23: 41 | E23: 41 | F23: 117 | G23: 8 | H23: 5 | I23: =23+10 -> 33
A24: 電話・窓口対応について | D24: 104 | E24: 71 | F24: 54 | G24: 9 | H24: 1 | I24: 6
A25: 修繕必要時の対応について | D25: 78 | E25: 56 | F25: 79 | G25: 8 | H25: 11 | I25: 13
A26: 修繕工事の施工状況について | D26: 72 | E26: 70 | F26: 78 | G26: 9 | H26: 5 | I26: 11
A27: 建物の維持管理状況について | D27: 61 | E27: 59 | F27: 80 | G27: 21 | H27: 13 | I27: =15-4 -> 11
A28: 共同施設の管理状況について | D28: 67 | E28: 52 | F28: 82 | G28: 9 | H28: 6 | I28: 29
A29: 維持管理以外の対応について | D29: 61 | E29: 48 | F29: 108 | G29: 5 | H29: 4 | I29: 19
A30: 指定管理者の全般的な管理状況について | D30: 63 | E30: 57 | F30: 97 | G30: 6 | H30: 6 | I30: 16
A31: 合計（件） | D31: =SUM(D22:D30) -> 629 | E31: =SUM(E22:E30) -> 519 | F31: =SUM(F22:F30) -> 781 | G31: =SUM(G22:G30) -> 79 | H31: =SUM(H22:H30) -> 53 | I31: =SUM(I22:I30) -> 144
A32: 割合（％） | D32: =IF(D31=0,"",ROUNDDOWN(D31/SUM($D$31:$H$31)*100,1)) -> 30.5 | E32: =IF(E31=0,"",ROUNDDOWN(E31/SUM($D$31:$H$31)*100,1)) -> 25.1 | F32: =IF(F31=0,"",ROUNDDOWN(F31/SUM($D$31:$H$31)*100,1)) -> 37.8 | G32: =IF(G31=0,"",ROUNDDOWN(G31/SUM($D$31:$H$31)*100,1)) -> 3.8 | H32: =IF(H31=0,"",ROUNDDOWN(H31/SUM($D$31:$H$31)*100,1)) -> 2.5

Sheet 江差
A1: =総計!A1 -> ○令和６年度道営住宅指定管理者満足度調査実施結果
A3: ①指定管理者
A4: 地区名 | B4: 江差町
A5: 指定管理者 | B5: 辻久建設、ｵｵﾌﾙ建築設計事務所ｺﾝｿ-ｼｱﾑ
A6: 管理戸数 | B6: 108
A8: ②モニタリング回答者等
A9: 調査対象者 | B9: 20
A10: 全回答者数 | B10: =#REF! -> #REF!
A12: 性別 | B12: 男性 | C12: 5 | D12: 女性 | E12: 12 | F12: 不選択 | H12: 不明 | I12: 1
A13: 年齢 | B13: 20歳未満 | D13: 20～29歳 | E13: 1 | F13: 30～39歳 | H13: 40～49歳 | I13: 2
B14: 50～59歳 | C14: 4 | D14: 60～64歳 | E14: 3 | F14: 65歳以上 | G14: 8 | H14: 不明
A15: 職業 | B15: 自営業 | D15: 会社員 | E15: 3 | F15: 公務員 | H15: 主婦 | I15: 6
B16: 無職 | C16: 4 | D16: その他 | E16: 4 | F16: 不明 | G16: 1
A18: ③回答集計
A19: 質問の内容 | D19: 知っていた | E19: 知らなかった | I19: 未回答
A20: 指定管理者制度の導入について | D20: 13 | E20: 4 | I20: 1
D21: 満足 | E21: やや満足 | F21: どちらとも いえない | G21: やや不満 | H21: 不満 | I21: 未回答
A22: 個人情報・プライバシーへの配慮について | D22: 12 | E22: 2 | F22: 4
A23: 夜間休日等の緊急事態対応について | D23: 8 | E23: 2 | F23: 7 | I23: 1
A24: 電話・窓口対応について | D24: 12 | E24: 1 | F24: 4 | H24: 1
A25: 修繕必要時の対応について | D25: 7 | E25: 2 | F25: 7 | I25: 2
A26: 修繕工事の施工状況について | D26: 7 | E26: 4 | F26: 4 | I26: 3
A27: 建物の維持管理状況について | D27: 4 | E27: 6 | F27: 7 | I27: 1
A28: 共同施設の管理状況について | D28: 3 | E28: 6 | F28: 5 | I28: 4
A29: 維持管理以外の対応について | D29: 8 | E29: 5 | F29: 4 | I29: 1
A30: 指定管理者の全般的な管理状況について | D30: 8 | E30: 5 | F30: 4 | I30: 1
A31: 合計（件） | D31: =SUM(D22:D30) -> 69 | E31: =SUM(E22:E30) -> 33 | F31: =SUM(F22:F30) -> 46 | G31: =SUM(G22:G30) -> 0 | H31: =SUM(H22:H30) -> 1 | I31: =SUM(I22:I30) -> 13
A32: 割合（％） | D32: =IF(D31=0,"",ROUNDDOWN(D31/SUM($D$31:$H$31)*100,1)) -> 46.3 | E32: =IF(E31=0,"",ROUNDDOWN(E31/SUM($D$31:$H$31)*100,1)) -> 22.1 | F32: =IF(F31=0,"",ROUNDDOWN(F31/SUM($D$31:$H$31)*100,1)) -> 30.8 | G32: =IF(G31=0,"",ROUNDDOWN(G31/SUM($D$31:$H$31)*100,1)) | H32: =IF(H31=0,"",ROUNDDOWN(H31/SUM($D$31:$H$31)*100,1)) -> 0.6

Sheet 旭川
A1: =総計!A1 -> ○令和６年度道営住宅指定管理者満足度調査実施結果
A3: ①指定管理者
A4: 地区名 | B4: 旭川市
A5: 指定管理者 | B5: アライ地所（株）
A6: 管理戸数 | B6: 1229
A8: ②モニタリング回答者等
A9: 調査対象者 | B9: 244
A10: 全回答者数 | B10: =#REF! -> #REF!
A12: 性別 | B12: 男性 | C12: 54 | D12: 女性 | E12: 61 | F12: 不選択 | G12: 1 | H12: 不明 | I12: 5
A13: 年齢 | B13: 20歳未満 | D13: 20～29歳 | E13: 2 | F13: 30～39歳 | G13: 1 | H13: 40～49歳 | I13: 11
B14: 50～59歳 | C14: 20 | D14: 60～64歳 | E14: 15 | F14: 65歳以上 | G14: 69 | H14: 不明 | I14: 3
A15: 職業 | B15: 自営業 | C15: 5 | D15: 会社員 | E15: 29 | F15: 公務員 | H15: 主婦 | I15: 8
B16: 無職 | C16: 48 | D16: その他 | E16: 27 | F16: 不明 | G16: 4
A18: ③回答集計
A19: 質問の内容 | D19: 知っていた | E19: 知らなかった | I19: 未回答
A20: 指定管理者制度の導入について | D20: 100 | E20: 18 | I20: 3
D21: 満足 | E21: やや満足 | F21: どちらとも いえない | G21: やや不満 | H21: 不満 | I21: 未回答
A22: 個人情報・プライバシーへの配慮について | D22: 63 | E22: 22 | F22: 30 | H22: 2 | I22: 4
A23: 夜間休日等の緊急事態対応について | D23: 29 | E23: 15 | F23: 56 | G23: 5 | H23: 2 | I23: 14
A24: 電話・窓口対応について | D24: 68 | E24: 28 | F24: 19 | G24: 1 | H24: 2 | I24: 3
A25: 修繕必要時の対応について | D25: 46 | E25: 28 | F25: 36 | G25: 3 | H25: 4 | I25: 4
A26: 修繕工事の施工状況について | D26: 45 | E26: 26 | F26: 41 | G26: 3 | H26: 3 | I26: 3
A27: 建物の維持管理状況について | D27: 36 | E27: 21 | F27: 43 | G27: 12 | H27: 5 | I27: 4
A28: 共同施設の管理状況について | D28: 34 | E28: 16 | F28: 42 | G28: 5 | H28: 6 | I28: 18
A29: 維持管理以外の対応について | D29: 41 | E29: 24 | F29: 41 | G29: 5 | H29: 3 | I29: 7
A30: 指定管理者の全般的な管理状況について | D30: 48 | E30: 20 | F30: 41 | G30: 7 | H30: 3 | I30: 2
A31: 合計（件） | D31: =SUM(D22:D30) -> 410 | E31: =SUM(E22:E30) -> 200 | F31: =SUM(F22:F30) -> 349 | G31: =SUM(G22:G30) -> 41 | H31: =SUM(H22:H30) -> 30 | I31: =SUM(I22:I30) -> 59
A32: 割合（％） | D32: =IF(D31=0,"",ROUNDDOWN(D31/SUM($D$31:$H$31)*100,1)) -> 39.8 | E32: =IF(E31=0,"",ROUNDDOWN(E31/SUM($D$31:$H$31)*100,1)) -> 19.4 | F32: =IF(F31=0,"",ROUNDDOWN(F31/SUM($D$31:$H$31)*100,1)) -> 33.8 | G32: =IF(G31=0,"",ROUNDDOWN(G31/SUM($D$31:$H$31)*100,1)) -> 3.9 | H32: =IF(H31=0,"",ROUNDDOWN(H31/SUM($D$31:$H$31)*100,1)) -> 2.9

Sheet 稚内
A1: =総計!A1 -> ○令和６年度道営住宅指定管理者満足度調査実施結果
A3: ①指定管理者
A4: 地区名 | B4: 稚内市
A5: 指定管理者 | B5: 石塚建設興業（株）
A6: 管理戸数 | B6: 172
A8: ②モニタリング回答者等
A9: 調査対象者 | B9: 34
A10: 全回答者数 | B10: =#REF! -> #REF!
A12: 性別 | B12: 男性 | C12: 14 | D12: 女性 | E12: 10 | F12: 不選択 | G12: 1 | H12: 不明 | I12: 1
A13: 年齢 | B13: 20歳未満 | D13: 20～29歳 | F13: 30～39歳 | H13: 40～49歳 | I13: 2
B14: 50～59歳 | C14: 7 | D14: 60～64歳 | E14: 1 | F14: 65歳以上 | G14: 16 | H14: 不明
A15: 職業 | B15: 自営業 | C15: 1 | D15: 会社員 | E15: 11 | F15: 公務員 | H15: 主婦 | I15: 1
B16: 無職 | C16: 10 | D16: その他 | E16: 2 | F16: 不明 | G16: 1
A18: ③回答集計
A19: 質問の内容 | D19: 知っていた | E19: 知らなかった | I19: 未回答
A20: 指定管理者制度の導入について | D20: 21 | E20: 5
D21: 満足 | E21: やや満足 | F21: どちらとも いえない | G21: やや不満 | H21: 不満 | I21: 未回答
A22: 個人情報・プライバシーへの配慮について | D22: 15 | E22: 4 | F22: 6 | H22: 1
A23: 夜間休日等の緊急事態対応について | D23: 11 | E23: 1 | F23: 11 | G23: 1 | I23: 2
A24: 電話・窓口対応について | D24: 15 | E24: 6 | F24: 4 | G24: 1
A25: 修繕必要時の対応について | D25: 6 | E25: 10 | F25: 6 | G25: 2 | H25: 1 | I25: 1
A26: 修繕工事の施工状況について | D26: 10 | E26: 7 | F26: 5 | G26: 2 | H26: 1 | I26: 1
A27: 建物の維持管理状況について | D27: 8 | E27: 6 | F27: 7 | G27: 3 | H27: 1 | I27: 1
A28: 共同施設の管理状況について | D28: 8 | E28: 5 | F28: 7 | G28: 2 | H28: 1 | I28: 3
A29: 維持管理以外の対応について | D29: 10 | E29: 6 | F29: 7 | G29: 1 | H29: 1 | I29: 1
A30: 指定管理者の全般的な管理状況について | D30: 10 | E30: 7 | F30: 8 | H30: 1
A31: 合計（件） | D31: =SUM(D22:D30) -> 93 | E31: =SUM(E22:E30) -> 52 | F31: =SUM(F22:F30) -> 61 | G31: =SUM(G22:G30) -> 12 | H31: =SUM(H22:H30) -> 7 | I31: =SUM(I22:I30) -> 9
A32: 割合（％） | D32: =IF(D31=0,"",ROUNDDOWN(D31/SUM($D$31:$H$31)*100,1)) -> 41.3 | E32: =IF(E31=0,"",ROUNDDOWN(E31/SUM($D$31:$H$31)*100,1)) -> 23.1 | F32: =IF(F31=0,"",ROUNDDOWN(F31/SUM($D$31:$H$31)*100,1)) -> 27.1 | G32: =IF(G31=0,"",ROUNDDOWN(G31/SUM($D$31:$H$31)*100,1)) -> 5.3 | H32: =IF(H31=0,"",ROUNDDOWN(H31/SUM($D$31:$H$31)*100,1)) -> 3.1

Sheet 北見
A1: =総計!A1 -> ○令和６年度道営住宅指定管理者満足度調査実施結果
A3: ①指定管理者
A4: 地区名 | B4: 北見市
A5: 指定管理者 | B5: （有）藤原工産
A6: 管理戸数 | B6: 511
A8: ②モニタリング回答者等
A9: 調査対象者 | B9: 102
A10: 全回答者数 | B10: =#REF! -> #REF!
A12: 性別 | B12: 男性 | C12: 26 | D12: 女性 | E12: 34 | F12: 不選択 | G12: 4 | H12: 不明
A13: 年齢 | B13: 20歳未満 | D13: 20～29歳 | F13: 30～39歳 | G13: 1 | H13: 40～49歳 | I13: 8
B14: 50～59歳 | C14: 13 | D14: 60～64歳 | E14: 2 | F14: 65歳以上 | G14: 38 | H14: 不明 | I14: 2
A15: 職業 | B15: 自営業 | C15: 2 | D15: 会社員 | E15: 13 | F15: 公務員 | H15: 主婦 | I15: 4
B16: 無職 | C16: 28 | D16: その他 | E16: 17 | F16: 不明
A18: ③回答集計
A19: 質問の内容 | D19: 知っていた | E19: 知らなかった | I19: 未回答
A20: 指定管理者制度の導入について | D20: 56 | E20: 8
D21: 満足 | E21: やや満足 | F21: どちらとも いえない | G21: やや不満 | H21: 不満 | I21: 未回答
A22: 個人情報・プライバシーへの配慮について | D22: 39 | E22: 14 | F22: 9 | G22: 1 | H22: 1 | I22: 0
A23: 夜間休日等の緊急事態対応について | D23: 28 | E23: 7 | F23: 25 | G23: 0 | H23: 1 | I23: 3
A24: 電話・窓口対応について | D24: 38 | E24: 18 | F24: 6 | G24: 1 | H24: 1 | I24: 0
A25: 修繕必要時の対応について | D25: 29 | E25: 11 | F25: 14 | G25: 3 | H25: 1 | I25: 6
A26: 修繕工事の施工状況について | D26: 24 | E26: 13 | F26: 13 | G26: 3 | H26: 2 | I26: 9
A27: 建物の維持管理状況について | D27: 20 | E27: 16 | F27: 13 | G27: 4 | H27: 3 | I27: 8
A28: 共同施設の管理状況について | D28: 21 | E28: 12 | F28: 15 | G28: 3 | H28: 1 | I28: 12
A29: 維持管理以外の対応について | D29: 26 | E29: 14 | F29: 14 | G29: 0 | H29: 1 | I29: 9
A30: 指定管理者の全般的な管理状況について | D30: 32 | E30: 16 | F30: 8 | G30: 0 | H30: 1 | I30: 7
A31: 合計（件） | D31: =SUM(D22:D30) -> 257 | E31: =SUM(E22:E30) -> 121 | F31: =SUM(F22:F30) -> 117 | G31: =SUM(G22:G30) -> 15 | H31: =SUM(H22:H30) -> 12 | I31: =SUM(I22:I30) -> 54
A32: 割合（％） | D32: =IF(D31=0,"",ROUNDDOWN(D31/SUM($D$31:$H$31)*100,1)) -> 49.2 | E32: =IF(E31=0,"",ROUNDDOWN(E31/SUM($D$31:$H$31)*100,1)) -> 23.1 | F32: =IF(F31=0,"",ROUNDDOWN(F31/SUM($D$31:$H$31)*100,1)) -> 22.4 | G32: =IF(G31=0,"",ROUNDDOWN(G31/SUM($D$31:$H$31)*100,1)) -> 2.8 | H32: =IF(H31=0,"",ROUNDDOWN(H31/SUM($D$31:$H$31)*100,1)) -> 2.2

Sheet 網走
A1: =総計!A1 -> ○令和６年度道営住宅指定管理者満足度調査実施結果
A3: ①指定管理者
A4: 地区名 | B4: 網走市
A5: 指定管理者 | B5: （有）藤原工産
A6: 管理戸数 | B6: 488
A8: ②モニタリング回答者等
A9: 調査対象者 | B9: 98
A10: 全回答者数 | B10: =#REF! -> #REF!
A12: 性別 | B12: 男性 | C12: 25 | D12: 女性 | E12: 31 | F12: 不選択 | G12: 1 | H12: 不明
A13: 年齢 | B13: 20歳未満 | D13: 20～29歳 | E13: 1 | F13: 30～39歳 | G13: 4 | H13: 40～49歳 | I13: 7
B14: 50～59歳 | C14: 10 | D14: 60～64歳 | E14: 3 | F14: 65歳以上 | G14: 31 | H14: 不明 | I14: 1
A15: 職業 | B15: 自営業 | C15: 2 | D15: 会社員 | E15: 19 | F15: 公務員 | H15: 主婦 | I15: 1
B16: 無職 | C16: 23 | D16: その他 | E16: 9 | F16: 不明 | G16: 3
A18: ③回答集計
A19: 質問の内容 | D19: 知っていた | E19: 知らなかった | I19: 未回答
A20: 指定管理者制度の導入について | D20: 48 | E20: 9
D21: 満足 | E21: やや満足 | F21: どちらとも いえない | G21: やや不満 | H21: 不満 | I21: 未回答
A22: 個人情報・プライバシーへの配慮について | D22: 27 | E22: 11 | F22: 19 | G22: 0 | H22: 0 | I22: 0
A23: 夜間休日等の緊急事態対応について | D23: 10 | E23: 11 | F23: 31 | G23: 2 | H23: 2 | I23: 1
A24: 電話・窓口対応について | D24: 30 | E24: 11 | F24: 14 | G24: 1 | H24: 1 | I24: 0
A25: 修繕必要時の対応について | D25: 24 | E25: 12 | F25: 16 | G25: 3 | H25: 1 | I25: 1
A26: 修繕工事の施工状況について | D26: 22 | E26: 10 | F26: 20 | G26: 2 | H26: 1 | I26: 2
A27: 建物の維持管理状況について | D27: 15 | E27: 5 | F27: 22 | G27: 5 | H27: 8 | I27: 2
A28: 共同施設の管理状況について | D28: 19 | E28: 7 | F28: 20 | G28: 4 | H28: 3 | I28: 4
A29: 維持管理以外の対応について | D29: 15 | E29: 11 | F29: 27 | G29: 1 | H29: 2 | I29: 1
A30: 指定管理者の全般的な管理状況について | D30: 17 | E30: 11 | F30: 26 | G30: 1 | H30: 1 | I30: 1
A31: 合計（件） | D31: =SUM(D22:D30) -> 179 | E31: =SUM(E22:E30) -> 89 | F31: =SUM(F22:F30) -> 195 | G31: =SUM(G22:G30) -> 19 | H31: =SUM(H22:H30) -> 19 | I31: =SUM(I22:I30) -> 12
A32: 割合（％） | D32: =IF(D31=0,"",ROUNDDOWN(D31/SUM($D$31:$H$31)*100,1)) -> 35.7 | E32: =IF(E31=0,"",ROUNDDOWN(E31/SUM($D$31:$H$31)*100,1)) -> 17.7 | F32: =IF(F31=0,"",ROUNDDOWN(F31/SUM($D$31:$H$31)*100,1)) -> 38.9 | G32: =IF(G31=0,"",ROUNDDOWN(G31/SUM($D$31:$H$31)*100,1)) -> 3.7 | H32: =IF(H31=0,"",ROUNDDOWN(H31/SUM($D$31:$H$31)*100,1)) -> 3.7

Sheet 美幌
A1: =総計!A1 -> ○令和６年度道営住宅指定管理者満足度調査実施結果
A3: ①指定管理者
A4: 地区名 | B4: 美幌町
A5: 指定管理者 | B5: （有）藤原工産
A6: 管理戸数 | B6: 84
A8: ②モニタリング回答者等
A9: 調査対象者 | B9: 20
A10: 全回答者数 | B10: =#REF! -> #REF!
A12: 性別 | B12: 男性 | C12: 5 | D12: 女性 | E12: 3 | F12: 不選択 | G12: 1 | H12: 不明
A13: 年齢 | B13: 20歳未満 | D13: 20～29歳 | F13: 30～39歳 | H13: 40～49歳 | I13: 1
B14: 50～59歳 | C14: 2 | D14: 60～64歳 | E14: 2 | F14: 65歳以上 | G14: 4 | H14: 不明
A15: 職業 | B15: 自営業 | D15: 会社員 | E15: 2 | F15: 公務員 | H15: 主婦
B16: 無職 | C16: 6 | D16: その他 | E16: 1 | F16: 不明
A18: ③回答集計
A19: 質問の内容 | D19: 知っていた | E19: 知らなかった | I19: 未回答
A20: 指定管理者制度の導入について | D20: 9
D21: 満足 | E21: やや満足 | F21: どちらとも いえない | G21: やや不満 | H21: 不満 | I21: 未回答
A22: 個人情報・プライバシーへの配慮について | D22: 6 | E22: 1 | F22: 2 | G22: 0 | H22: 0 | I22: 0
A23: 夜間休日等の緊急事態対応について | D23: 3 | E23: 2 | F23: 4 | G23: 0 | H23: 0 | I23: 0
A24: 電話・窓口対応について | D24: 6 | E24: 1 | F24: 1 | G24: 0 | H24: 1 | I24: 0
A25: 修繕必要時の対応について | D25: 2 | E25: 2 | F25: 4 | G25: 0 | H25: 0 | I25: 1
A26: 修繕工事の施工状況について | D26: 2 | E26: 3 | F26: 3 | G26: 0 | H26: 0 | I26: 1
A27: 建物の維持管理状況について | D27: 2 | E27: 4 | F27: 2 | G27: 0 | H27: 0 | I27: 1
A28: 共同施設の管理状況について | D28: 3 | E28: 1 | F28: 3 | G28: 1 | H28: 0 | I28: 1
A29: 維持管理以外の対応について | D29: 4 | E29: 3 | F29: 1 | G29: 0 | H29: 0 | I29: 1
A30: 指定管理者の全般的な管理状況について | D30: 4 | E30: 3 | F30: 1 | G30: 0 | H30: 0 | I30: 1
A31: 合計（件） | D31: =SUM(D22:D30) -> 32 | E31: =SUM(E22:E30) -> 20 | F31: =SUM(F22:F30) -> 21 | G31: =SUM(G22:G30) -> 1 | H31: =SUM(H22:H30) -> 1 | I31: =SUM(I22:I30) -> 6
A32: 割合（％） | D32: =IF(D31=0,"",ROUNDDOWN(D31/SUM($D$31:$H$31)*100,1)) -> 42.6 | E32: =IF(E31=0,"",ROUNDDOWN(E31/SUM($D$31:$H$31)*100,1)) -> 26.6 | F32: =IF(F31=0,"",ROUNDDOWN(F31/SUM($D$31:$H$31)*100,1)) -> 28 | G32: =IF(G31=0,"",ROUNDDOWN(G31/SUM($D$31:$H$31)*100,1)) -> 1.3 | H32: =IF(H31=0,"",ROUNDDOWN(H31/SUM($D$31:$H$31)*100,1)) -> 1.3

Sheet 斜里
A1: =総計!A1 -> ○令和６年度道営住宅指定管理者満足度調査実施結果
A3: ①指定管理者
A4: 地区名 | B4: 斜里町
A5: 指定管理者 | B5: （有）藤原工産
A6: 管理戸数 | B6: 36
A8: ②モニタリング回答者等
A9: 調査対象者 | B9: 20
A10: 全回答者数 | B10: =#REF! -> #REF!
A12: 性別 | B12: 男性 | C12: 5 | D12: 女性 | E12: 5 | F12: 不選択 | G12: 2 | H12: 不明
A13: 年齢 | B13: 20歳未満 | D13: 20～29歳 | F13: 30～39歳 | G13: 2 | H13: 40～49歳 | I13: 2
B14: 50～59歳 | D14: 60～64歳 | F14: 65歳以上 | G14: 8 | H14: 不明
A15: 職業 | B15: 自営業 | D15: 会社員 | E15: 3 | F15: 公務員 | H15: 主婦
B16: 無職 | C16: 6 | D16: その他 | E16: 2 | F16: 不明 | G16: 1
A18: ③回答集計
A19: 質問の内容 | D19: 知っていた | E19: 知らなかった | I19: 未回答
A20: 指定管理者制度の導入について | D20: 11 | I20: 1
D21: 満足 | E21: やや満足 | F21: どちらとも いえない | G21: やや不満 | H21: 不満 | I21: 未回答
A22: 個人情報・プライバシーへの配慮について | D22: 7 | E22: 1 | F22: 3 | G22: 0 | H22: 0 | I22: 1
A23: 夜間休日等の緊急事態対応について | D23: 4 | E23: 2 | F23: 4 | G23: 0 | H23: 0 | I23: 2
A24: 電話・窓口対応について | D24: 7 | E24: 1 | F24: 4 | G24: 0 | H24: 0 | I24: 0
A25: 修繕必要時の対応について | D25: 5 | E25: 2 | F25: 3 | G25: 0 | H25: 0 | I25: 2
A26: 修繕工事の施工状況について | D26: 6 | E26: 1 | F26: 3 | G26: 0 | H26: 0 | I26: 2
A27: 建物の維持管理状況について | D27: 4 | E27: 3 | F27: 3 | G27: 0 | H27: 0 | I27: 2
A28: 共同施設の管理状況について | D28: 3 | E28: 2 | F28: 3 | G28: 0 | H28: 0 | I28: 4
A29: 維持管理以外の対応について | D29: 6 | E29: 0 | F29: 4 | G29: 0 | H29: 0 | I29: 2
A30: 指定管理者の全般的な管理状況について | D30: 5 | E30: 4 | F30: 1 | G30: 0 | H30: 0 | I30: 2
A31: 合計（件） | D31: =SUM(D22:D30) -> 47 | E31: =SUM(E22:E30) -> 16 | F31: =SUM(F22:F30) -> 28 | G31: =SUM(G22:G30) -> 0 | H31: =SUM(H22:H30) -> 0 | I31: =SUM(I22:I30) -> 17
A32: 割合（％） | D32: =IF(D31=0,"",ROUNDDOWN(D31/SUM($D$31:$H$31)*100,1)) -> 51.6 | E32: =IF(E31=0,"",ROUNDDOWN(E31/SUM($D$31:$H$31)*100,1)) -> 17.5 | F32: =IF(F31=0,"",ROUNDDOWN(F31/SUM($D$31:$H$31)*100,1)) -> 30.7 | G32: =IF(G31=0,"",ROUNDDOWN(G31/SUM($D$31:$H$31)*100,1)) | H32: =IF(H31=0,"",ROUNDDOWN(H31/SUM($D$31:$H$31)*100,1))

Sheet 帯広
A1: =総計!A1 -> ○令和６年度道営住宅指定管理者満足度調査実施結果
A3: ①指定管理者
A4: 地区名 | B4: 帯広圏
A5: 指定管理者 | B5: エーワン、創造設計舎コンソーシアム
A6: 管理戸数 | B6: 1184
A8: ②モニタリング回答者等
A9: 調査対象者 | B9: 246
A10: 全回答者数 | B10: =#REF! -> #REF!
A12: 性別 | B12: 男性 | C12: 55 | D12: 女性 | E12: 67 | F12: 不選択 | G12: 4 | H12: 不明 | I12: 9
A13: 年齢 | B13: 20歳未満 | D13: 20～29歳 | F13: 30～39歳 | G13: 8 | H13: 40～49歳 | I13: 19
B14: 50～59歳 | C14: 15 | D14: 60～64歳 | E14: 8 | F14: 65歳以上 | G14: 81 | H14: 不明 | I14: 4
A15: 職業 | B15: 自営業 | C15: 3 | D15: 会社員 | E15: 33 | F15: 公務員 | H15: 主婦 | I15: 6
B16: 無職 | C16: 60 | D16: その他 | E16: 25 | F16: 不明 | G16: 8
A18: ③回答集計
A19: 質問の内容 | D19: 知っていた | E19: 知らなかった | I19: 未回答
A20: 指定管理者制度の導入について | D20: 99 | E20: 33 | I20: 3
D21: 満足 | E21: やや満足 | F21: どちらとも いえない | G21: やや不満 | H21: 不満 | I21: 未回答
A22: 個人情報・プライバシーへの配慮について | D22: 55 | E22: 29 | F22: 45 | G22: 2 | H22: 1 | I22: 3
A23: 夜間休日等の緊急事態対応について | D23: 40 | E23: 23 | F23: 61 | G23: 1 | H23: 1 | I23: 9
A24: 電話・窓口対応について | D24: 64 | E24: 25 | F24: 38 | G24: 2 | H24: 4 | I24: 2
A25: 修繕必要時の対応について | D25: 41 | E25: 31 | F25: 44 | G25: 1 | H25: 6 | I25: 12
A26: 修繕工事の施工状況について | D26: 37 | E26: 35 | F26: 43 | G26: 5 | H26: 3 | I26: 12
A27: 建物の維持管理状況について | D27: 30 | E27: 31 | F27: 52 | G27: 6 | H27: 6 | I27: 10
A28: 共同施設の管理状況について | D28: 28 | E28: 21 | F28: 45 | G28: 8 | H28: 5 | I28: 28
A29: 維持管理以外の対応について | D29: 36 | E29: 31 | F29: 50 | G29: 4 | H29: 2 | I29: 12
A30: 指定管理者の全般的な管理状況について | D30: 40 | E30: 27 | F30: 48 | G30: 4 | H30: 4 | I30: 12
A31: 合計（件） | D31: =SUM(D22:D30) -> 371 | E31: =SUM(E22:E30) -> 253 | F31: =SUM(F22:F30) -> 426 | G31: =SUM(G22:G30) -> 33 | H31: =SUM(H22:H30) -> 32 | I31: =SUM(I22:I30) -> 100
A32: 割合（％） | D32: =IF(D31=0,"",ROUNDDOWN(D31/SUM($D$31:$H$31)*100,1)) -> 33.2 | E32: =IF(E31=0,"",ROUNDDOWN(E31/SUM($D$31:$H$31)*100,1)) -> 22.6 | F32: =IF(F31=0,"",ROUNDDOWN(F31/SUM($D$31:$H$31)*100,1)) -> 38.2 | G32: =IF(G31=0,"",ROUNDDOWN(G31/SUM($D$31:$H$31)*100,1)) -> 2.9 | H32: =IF(H31=0,"",ROUNDDOWN(H31/SUM($D$31:$H$31)*100,1)) -> 2.8

Sheet 釧路
A1: =総計!A1 -> ○令和６年度道営住宅指定管理者満足度調査実施結果
A3: ①指定管理者
A4: 地区名 | B4: 釧路圏
A5: 指定管理者 | B5: （一財）釧路市住宅公社
A6: 管理戸数 | B6: 1073
A8: ②モニタリング回答者等
A9: 調査対象者 | B9: 215
A10: 全回答者数 | B10: =#REF! -> #REF!
A12: 性別 | B12: 男性 | C12: 70 | D12: 女性 | E12: 45 | F12: 不選択 | G12: 3 | H12: 不明 | I12: 10
A13: 年齢 | B13: 20歳未満 | D13: 20～29歳 | F13: 30～39歳 | G13: 5 | H13: 40～49歳 | I13: 13
B14: 50～59歳 | C14: 24 | D14: 60～64歳 | E14: 10 | F14: 65歳以上 | G14: 73 | H14: 不明 | I14: 3
A15: 職業 | B15: 自営業 | C15: 4 | D15: 会社員 | E15: 46 | F15: 公務員 | H15: 主婦 | I15: 10
B16: 無職 | C16: 50 | D16: その他 | E16: 15 | F16: 不明 | G16: 3
A18: ③回答集計
A19: 質問の内容 | D19: 知っていた | E19: 知らなかった | I19: 未回答
A20: 指定管理者制度の導入について | D20: 83 | E20: 44 | I20: 1
D21: 満足 | E21: やや満足 | F21: どちらとも いえない | G21: やや不満 | H21: 不満 | I21: 未回答
A22: 個人情報・プライバシーへの配慮について | D22: 51 | E22: 21 | F22: 47 | G22: 3 | H22: 2 | I22: 4
A23: 夜間休日等の緊急事態対応について | D23: 24 | E23: 16 | F23: 74 | G23: 4 | H23: 3 | I23: 7
A24: 電話・窓口対応について | D24: 54 | E24: 32 | F24: 33 | G24: 4 | H24: 3 | I24: 2
A25: 修繕必要時の対応について | D25: 32 | E25: 30 | F25: 50 | G25: 7 | H25: 5 | I25: 4
A26: 修繕工事の施工状況について | D26: 36 | E26: 35 | F26: 46 | G26: 1 | H26: 3 | I26: 7
A27: 建物の維持管理状況について | D27: 23 | E27: 34 | F27: 51 | G27: 7 | H27: 7 | I27: 6
A28: 共同施設の管理状況について | D28: 34 | E28: 25 | F28: 49 | G28: 7 | H28: 5 | I28: 8
A29: 維持管理以外の対応について | D29: 27 | E29: 30 | F29: 57 | G29: 1 | H29: 5 | I29: 8
A30: 指定管理者の全般的な管理状況について | D30: 29 | E30: 38 | F30: 49 | G30: 4 | H30: 3 | I30: =5 -> 5
A31: 合計（件） | D31: =SUM(D22:D30) -> 310 | E31: =SUM(E22:E30) -> 261 | F31: =SUM(F22:F30) -> 456 | G31: =SUM(G22:G30) -> 38 | H31: =SUM(H22:H30) -> 36 | I31: =SUM(I22:I30) -> 51
A32: 割合（％） | D32: =IF(D31=0,"",ROUNDDOWN(D31/SUM($D$31:$H$31)*100,1)) -> 28.1 | E32: =IF(E31=0,"",ROUNDDOWN(E31/SUM($D$31:$H$31)*100,1)) -> 23.7 | F32: =IF(F31=0,"",ROUNDDOWN(F31/SUM($D$31:$H$31)*100,1)) -> 41.4 | G32: =IF(G31=0,"",ROUNDDOWN(G31/SUM($D$31:$H$31)*100,1)) -> 3.4 | H32: =IF(H31=0,"",ROUNDDOWN(H31/SUM($D$31:$H$31)*100,1)) -> 3.2

Sheet 根室
A1: =総計!A1 -> ○令和６年度道営住宅指定管理者満足度調査実施結果
A3: ①指定管理者
A4: 地区名 | B4: 根室市
A5: 指定管理者 | B5: 渡辺建設工業（株）
A6: 管理戸数 | B6: 185
A8: ②モニタリング回答者等
A9: 調査対象者 | B9: 19
A10: 全回答者数 | B10: =#REF! -> #REF!
A12: 性別 | B12: 男性 | C12: 4 | D12: 女性 | E12: 4 | F12: 不選択 | H12: 不明 | I12: 1
A13: 年齢 | B13: 20歳未満 | D13: 20～29歳 | F13: 30～39歳 | G13: 1 | H13: 40～49歳 | I13: 3
B14: 50～59歳 | C14: 1 | D14: 60～64歳 | F14: 65歳以上 | G14: 4 | H14: 不明
A15: 職業 | B15: 自営業 | D15: 会社員 | E15: 2 | F15: 公務員 | H15: 主婦
B16: 無職 | C16: 5 | D16: その他 | E16: 2 | F16: 不明
A18: ③回答集計
A19: 質問の内容 | D19: 知っていた | E19: 知らなかった | I19: 未回答
A20: 指定管理者制度の導入について | D20: 8 | I20: 1
D21: 満足 | E21: やや満足 | F21: どちらとも いえない | G21: やや不満 | H21: 不満 | I21: 未回答
A22: 個人情報・プライバシーへの配慮について | D22: 6 | E22: 1 | F22: 2 | G22: 0 | H22: 0 | I22: 0
A23: 夜間休日等の緊急事態対応について | D23: 6 | E23: 0 | F23: 3 | G23: 0 | H23: 0 | I23: 0
A24: 電話・窓口対応について | D24: 8 | E24: 0 | F24: 1 | G24: 0 | H24: 0 | I24: 0
A25: 修繕必要時の対応について | D25: 7 | E25: 0 | F25: 2 | G25: 0 | H25: 0 | I25: 0
A26: 修繕工事の施工状況について | D26: 5 | E26: 0 | F26: 3 | G26: 1 | H26: 0 | I26: 0
A27: 建物の維持管理状況について | D27: 3 | E27: 3 | F27: 3 | G27: 0 | H27: 0 | I27: 0
A28: 共同施設の管理状況について | D28: 3 | E28: 1 | F28: 5 | G28: 0 | H28: 0 | I28: 0
A29: 維持管理以外の対応について | D29: 3 | E29: 2 | F29: 4 | G29: 0 | H29: 0 | I29: 0
A30: 指定管理者の全般的な管理状況について | D30: 5 | E30: 1 | F30: 3 | G30: 0 | H30: 0 | I30: 0
A31: 合計（件） | D31: =SUM(D22:D30) -> 46 | E31: =SUM(E22:E30) -> 8 | F31: =SUM(F22:F30) -> 26 | G31: =SUM(G22:G30) -> 1 | H31: =SUM(H22:H30) -> 0 | I31: =SUM(I22:I30) -> 0
A32: 割合（％） | D32: =IF(D31=0,"",ROUNDDOWN(D31/SUM($D$31:$H$31)*100,1)) -> 56.7 | E32: =IF(E31=0,"",ROUNDDOWN(E31/SUM($D$31:$H$31)*100,1)) -> 9.8 | F32: =IF(F31=0,"",ROUNDDOWN(F31/SUM($D$31:$H$31)*100,1)) -> 32 | G32: =IF(G31=0,"",ROUNDDOWN(G31/SUM($D$31:$H$31)*100,1)) -> 1.2 | H32: =IF(H31=0,"",ROUNDDOWN(H31/SUM($D$31:$H$31)*100,1))

Sheet 中標津
A1: =総計!A1 -> ○令和６年度道営住宅指定管理者満足度調査実施結果
A3: ①指定管理者
A4: 地区名 | B4: 中標津町
A5: 指定管理者 | B5: (有)シーズ・オブ・エリア
A6: 管理戸数 | B6: 125
A8: ②モニタリング回答者等
A9: 調査対象者 | B9: 12
A10: 全回答者数 | B10: =#REF! -> #REF!
A12: 性別 | B12: 男性 | C12: 2 | D12: 女性 | E12: 4 | F12: 不選択 | H12: 不明
A13: 年齢 | B13: 20歳未満 | D13: 20～29歳 | F13: 30～39歳 | H13: 40～49歳
B14: 50～59歳 | C14: 2 | D14: 60～64歳 | E14: 1 | F14: 65歳以上 | G14: 3 | H14: 不明
A15: 職業 | B15: 自営業 | C15: 1 | D15: 会社員 | E15: 2 | F15: 公務員 | H15: 主婦 | I15: 1
B16: 無職 | C16: 1 | D16: その他 | E16: 1 | F16: 不明
A18: ③回答集計
A19: 質問の内容 | D19: 知っていた | E19: 知らなかった | I19: 未回答
A20: 指定管理者制度の導入について | D20: 6
D21: 満足 | E21: やや満足 | F21: どちらとも いえない | G21: やや不満 | H21: 不満 | I21: 未回答
A22: 個人情報・プライバシーへの配慮について | D22: 1 | E22: 3 | F22: 1 | G22: 1 | H22: 0 | I22: 0
A23: 夜間休日等の緊急事態対応について | D23: 0 | E23: 2 | F23: 4 | G23: 0 | H23: 0 | I23: 0
A24: 電話・窓口対応について | D24: 2 | E24: 2 | F24: 2 | G24: 0 | H24: 0 | I24: 0
A25: 修繕必要時の対応について | D25: 0 | E25: 3 | F25: 3 | G25: 0 | H25: 0 | I25: 0
A26: 修繕工事の施工状況について | D26: 0 | E26: 3 | F26: 3 | G26: 0 | H26: 0 | I26: 0
A27: 建物の維持管理状況について | D27: 0 | E27: 2 | F27: 3 | G27: 1 | H27: 0 | I27: 0
A28: 共同施設の管理状況について | D28: 0 | E28: 0 | F28: 4 | G28: 1 | H28: 1 | I28: 0
A29: 維持管理以外の対応について | D29: 0 | E29: 1 | F29: 4 | G29: 0 | H29: 1 | I29: 0
A30: 指定管理者の全般的な管理状況について | D30: 1 | E30: 2 | F30: 2 | G30: 1 | H30: 0 | I30: 0
A31: 合計（件） | D31: =SUM(D22:D30) -> 4 | E31: =SUM(E22:E30) -> 18 | F31: =SUM(F22:F30) -> 26 | G31: =SUM(G22:G30) -> 4 | H31: =SUM(H22:H30) -> 2 | I31: =SUM(I22:I30) -> 0
A32: 割合（％） | D32: =IF(D31=0,"",ROUNDDOWN(D31/SUM($D$31:$H$31)*100,1)) -> 7.4 | E32: =IF(E31=0,"",ROUNDDOWN(E31/SUM($D$31:$H$31)*100,1)) -> 33.3 | F32: =IF(F31=0,"",ROUNDDOWN(F31/SUM($D$31:$H$31)*100,1)) -> 48.1 | G32: =IF(G31=0,"",ROUNDDOWN(G31/SUM($D$31:$H$31)*100,1)) -> 7.4 | H32: =IF(H31=0,"",ROUNDDOWN(H31/SUM($D$31:$H$31)*100,1)) -> 3.7

Sheet 夕張
A1: =総計!A1 -> ○令和６年度道営住宅指定管理者満足度調査実施結果
A3: ①指定管理者
A4: 地区名 | B4: 夕張市
A5: 指定管理者 | B5: 夕張市
A6: 管理戸数 | B6: 145
A8: ②モニタリング回答者等
A9: 調査対象者 | B9: 29
A10: 全回答者数 | B10: =#REF! -> #REF!
A12: 性別 | B12: 男性 | C12: 5 | D12: 女性 | E12: 8 | F12: 不選択 | H12: 不明
A13: 年齢 | B13: 20歳未満 | D13: 20～29歳 | F13: 30～39歳 | H13: 40～49歳
B14: 50～59歳 | C14: 3 | D14: 60～64歳 | F14: 65歳以上 | G14: 10 | H14: 不明
A15: 職業 | B15: 自営業 | D15: 会社員 | E15: 2 | F15: 公務員 | H15: 主婦 | I15: 1
B16: 無職 | C16: 7 | D16: その他 | E16: 1 | F16: 不明 | G16: 2
A18: ③回答集計
A19: 質問の内容 | D19: 知っていた | E19: 知らなかった | I19: 未回答
A20: 指定管理者制度の導入について | D20: 5 | E20: 7 | I20: 1
D21: 満足 | E21: やや満足 | F21: どちらとも いえない | G21: やや不満 | H21: 不満 | I21: 未回答
A22: 個人情報・プライバシーへの配慮について | D22: 4 | E22: 5 | F22: 4
A23: 夜間休日等の緊急事態対応について | D23: 3 | E23: 2 | F23: 7 | G23: 1
A24: 電話・窓口対応について | D24: 5 | E24: 4 | F24: 4
A25: 修繕必要時の対応について | D25: 4 | E25: 1 | F25: 5 | G25: 2 | I25: 1
A26: 修繕工事の施工状況について | D26: 3 | E26: 1 | F26: 7 | G26: 1 | I26: 1
A27: 建物の維持管理状況について | D27: 5 | E27: 3 | F27: 2 | G27: 2 | H27: 1
A28: 共同施設の管理状況について | D28: 2 | E28: 5 | F28: 5 | G28: 1
A29: 維持管理以外の対応について | D29: 4 | E29: 4 | F29: 5
A30: 指定管理者の全般的な管理状況について | D30: 4 | E30: 4 | F30: 3 | H30: 1 | I30: 1
A31: 合計（件） | D31: =SUM(D22:D30) -> 34 | E31: =SUM(E22:E30) -> 29 | F31: =SUM(F22:F30) -> 42 | G31: =SUM(G22:G30) -> 7 | H31: =SUM(H22:H30) -> 2 | I31: =SUM(I22:I30) -> 3
A32: 割合（％） | D32: =IF(D31=0,"",ROUNDDOWN(D31/SUM($D$31:$H$31)*100,1)) -> 29.8 | E32: =IF(E31=0,"",ROUNDDOWN(E31/SUM($D$31:$H$31)*100,1)) -> 25.4 | F32: =IF(F31=0,"",ROUNDDOWN(F31/SUM($D$31:$H$31)*100,1)) -> 36.8 | G32: =IF(G31=0,"",ROUNDDOWN(G31/SUM($D$31:$H$31)*100,1)) -> 6.1 | H32: =IF(H31=0,"",ROUNDDOWN(H31/SUM($D$31:$H$31)*100,1)) -> 1.7

Sheet 南幌
A1: =総計!A1 -> ○令和６年度道営住宅指定管理者満足度調査実施結果
A3: ①指定管理者
A4: 地区名 | B4: 南幌町
A5: 指定管理者 | B5: 南幌町
A6: 管理戸数 | B6: 60
A8: ②モニタリング回答者等
A9: 調査対象者 | B9: 20
A10: 全回答者数 | B10: =SUM(C12,E12,G12) -> 9
A12: 性別 | B12: 男性 | C12: 5 | D12: 女性 | E12: 4 | F12: 不選択 | H12: 不明
A13: 年齢 | B13: 20歳未満 | D13: 20～29歳 | F13: 30～39歳 | H13: 40～49歳
B14: 50～59歳 | D14: 60～64歳 | F14: 65歳以上 | G14: 9 | H14: 不明
A15: 職業 | B15: 自営業 | D15: 会社員 | F15: 公務員 | H15: 主婦
B16: 無職 | C16: 8 | D16: その他 | F16: 不明 | G16: 1
A18: ③回答集計
A19: 質問の内容 | D19: 知っていた | E19: 知らなかった | I19: 未回答
A20: 指定管理者制度の導入について | D20: 5 | E20: 4
D21: 満足 | E21: やや満足 | F21: どちらとも いえない | G21: やや不満 | H21: 不満 | I21: 未回答
A22: 個人情報・プライバシーへの配慮について | D22: 5 | E22: 2 | F22: 2
A23: 夜間休日等の緊急事態対応について | D23: 4 | E23: 1 | F23: 2 | I23: 2
A24: 電話・窓口対応について | D24: 6 | E24: 2 | F24: 1
A25: 修繕必要時の対応について | D25: 4 | E25: 2 | F25: 2 | I25: 1
A26: 修繕工事の施工状況について | D26: 4 | E26: 1 | F26: 2 | G26: 1 | I26: 1
A27: 建物の維持管理状況について | D27: 2 | E27: 4 | F27: 2 | G27: 1
A28: 共同施設の管理状況について | D28: 1 | E28: 1 | F28: 1 | I28: 6
A29: 維持管理以外の対応について | D29: 6 | F29: 2 | I29: 1
A30: 指定管理者の全般的な管理状況について | D30: 6 | F30: 2 | I30: 1
A31: 合計（件） | D31: =SUM(D22:D30) -> 38 | E31: =SUM(E22:E30) -> 13 | F31: =SUM(F22:F30) -> 16 | G31: =SUM(G22:G30) -> 2 | H31: =SUM(H22:H30) -> 0 | I31: =SUM(I22:I30) -> 12
A32: 割合（％） | D32: =IF(D31=0,"",ROUNDDOWN(D31/SUM($D$31:$H$31)*100,1)) -> 55 | E32: =IF(E31=0,"",ROUNDDOWN(E31/SUM($D$31:$H$31)*100,1)) -> 18.8 | F32: =IF(F31=0,"",ROUNDDOWN(F31/SUM($D$31:$H$31)*100,1)) -> 23.1 | G32: =IF(G31=0,"",ROUNDDOWN(G31/SUM($D$31:$H$31)*100,1)) -> 2.8 | H32: =IF(H31=0,"",ROUNDDOWN(H31/SUM($D$31:$H$31)*100,1))

Sheet 木古内
A1: =総計!A1 -> ○令和６年度道営住宅指定管理者満足度調査実施結果
A3: ①指定管理者
A4: 地区名 | B4: 木古内町
A5: 指定管理者 | B5: 木古内町
A6: 管理戸数 | B6: 39
A8: ②モニタリング回答者等
A9: 調査対象者 | B9: 20
A10: 全回答者数 | B10: =#REF! -> #REF!
A12: 性別 | B12: 男性 | C12: 4 | D12: 女性 | E12: 7 | F12: 不選択 | H12: 不明
A13: 年齢 | B13: 20歳未満 | D13: 20～29歳 | E13: 1 | F13: 30～39歳 | G13: 3 | H13: 40～49歳 | I13: 1
B14: 50～59歳 | C14: 3 | D14: 60～64歳 | F14: 65歳以上 | G14: 3 | H14: 不明
A15: 職業 | B15: 自営業 | D15: 会社員 | E15: 4 | F15: 公務員 | G15: 2 | H15: 主婦 | I15: 1
B16: 無職 | C16: 2 | D16: その他 | E16: 2 | F16: 不明
A18: ③回答集計
A19: 質問の内容 | D19: 知っていた | E19: 知らなかった | I19: 未回答
A20: 指定管理者制度の導入について | D20: 6 | E20: 5
D21: 満足 | E21: やや満足 | F21: どちらとも いえない | G21: やや不満 | H21: 不満 | I21: 未回答
A22: 個人情報・プライバシーへの配慮について | D22: 4 | E22: 1 | F22: 6
A23: 夜間休日等の緊急事態対応について | D23: 1 | E23: 1 | F23: 7 | H23: 1 | I23: 1
A24: 電話・窓口対応について | D24: 3 | E24: 3 | F24: 5
A25: 修繕必要時の対応について | D25: 2 | E25: 1 | F25: 7 | I25: 1
A26: 修繕工事の施工状況について | D26: 2 | F26: 7 | I26: 2
A27: 建物の維持管理状況について | D27: 2 | E27: 2 | F27: 5 | G27: 1 | H27: 1
A28: 共同施設の管理状況について | D28: 1 | E28: 4 | F28: 5 | I28: 1
A29: 維持管理以外の対応について | D29: 1 | E29: 4 | F29: 5 | I29: 1
A30: 指定管理者の全般的な管理状況について | D30: 2 | E30: 2 | F30: 6 | G30: 1
A31: 合計（件） | D31: =SUM(D22:D30) -> 18 | E31: =SUM(E22:E30) -> 18 | F31: =SUM(F22:F30) -> 53 | G31: =SUM(G22:G30) -> 2 | H31: =SUM(H22:H30) -> 2 | I31: =SUM(I22:I30) -> 6
A32: 割合（％） | D32: =IF(D31=0,"",ROUNDDOWN(D31/SUM($D$31:$H$31)*100,1)) -> 19.3 | E32: =IF(E31=0,"",ROUNDDOWN(E31/SUM($D$31:$H$31)*100,1)) -> 19.3 | F32: =IF(F31=0,"",ROUNDDOWN(F31/SUM($D$31:$H$31)*100,1)) -> 56.9 | G32: =IF(G31=0,"",ROUNDDOWN(G31/SUM($D$31:$H$31)*100,1)) -> 2.1 | H32: =IF(H31=0,"",ROUNDDOWN(H31/SUM($D$31:$H$31)*100,1)) -> 2.1

Sheet 士別
A1: =総計!A1 -> ○令和６年度道営住宅指定管理者満足度調査実施結果
A3: ①指定管理者
A4: 地区名 | B4: 士別市
A5: 指定管理者 | B5: 士別市
A6: 管理戸数 | B6: 60
A8: ②モニタリング回答者等
A9: 調査対象者 | B9: 20
A10: 全回答者数 | B10: =#REF! -> #REF!
A12: 性別 | B12: 男性 | C12: 1 | D12: 女性 | E12: 4 | F12: 不選択 | H12: 不明
A13: 年齢 | B13: 20歳未満 | D13: 20～29歳 | F13: 30～39歳 | H13: 40～49歳
B14: 50～59歳 | C14: 2 | D14: 60～64歳 | F14: 65歳以上 | G14: 3 | H14: 不明
A15: 職業 | B15: 自営業 | D15: 会社員 | E15: 2 | F15: 公務員 | H15: 主婦
B16: 無職 | C16: 2 | D16: その他 | E16: 1 | F16: 不明
A18: ③回答集計
A19: 質問の内容 | D19: 知っていた | E19: 知らなかった | I19: 未回答
A20: 指定管理者制度の導入について | D20: 4 | E20: 1
D21: 満足 | E21: やや満足 | F21: どちらとも いえない | G21: やや不満 | H21: 不満 | I21: 未回答
A22: 個人情報・プライバシーへの配慮について | D22: 1 | E22: 2 | F22: 1 | H22: 1
A23: 夜間休日等の緊急事態対応について | E23: 1 | F23: 4
A24: 電話・窓口対応について | D24: 1 | E24: 2 | F24: 2
A25: 修繕必要時の対応について | D25: 1 | E25: 3 | F25: 1
A26: 修繕工事の施工状況について | D26: 1 | E26: 2 | F26: 2
A27: 建物の維持管理状況について | E27: 1 | F27: 4
A28: 共同施設の管理状況について | E28: 1 | F28: 3 | I28: 1
A29: 維持管理以外の対応について | E29: 3 | F29: 2
A30: 指定管理者の全般的な管理状況について | E30: 3 | F30: 2
A31: 合計（件） | D31: =SUM(D22:D30) -> 4 | E31: =SUM(E22:E30) -> 18 | F31: =SUM(F22:F30) -> 21 | G31: =SUM(G22:G30) -> 0 | H31: =SUM(H22:H30) -> 1 | I31: =SUM(I22:I30) -> 1
A32: 割合（％） | D32: =IF(D31=0,"",ROUNDDOWN(D31/SUM($D$31:$H$31)*100,1)) -> 9 | E32: =IF(E31=0,"",ROUNDDOWN(E31/SUM($D$31:$H$31)*100,1)) -> 40.9 | F32: =IF(F31=0,"",ROUNDDOWN(F31/SUM($D$31:$H$31)*100,1)) -> 47.7 | G32: =IF(G31=0,"",ROUNDDOWN(G31/SUM($D$31:$H$31)*100,1)) | H32: =IF(H31=0,"",ROUNDDOWN(H31/SUM($D$31:$H$31)*100,1)) -> 2.2

Sheet 富良野
A1: =総計!A1 -> ○令和６年度道営住宅指定管理者満足度調査実施結果
A3: ①指定管理者
A4: 地区名 | B4: 富良野市
A5: 指定管理者 | B5: 富良野市
A6: 管理戸数 | B6: 72
A8: ②モニタリング回答者等
A9: 調査対象者 | B9: 20
A10: 全回答者数 | B10: =#REF! -> #REF!
A12: 性別 | B12: 男性 | C12: 6 | D12: 女性 | E12: 2 | F12: 不選択 | G12: 1 | H12: 不明
A13: 年齢 | B13: 20歳未満 | D13: 20～29歳 | F13: 30～39歳 | H13: 40～49歳 | I13: 1
B14: 50～59歳 | C14: 3 | D14: 60～64歳 | E14: 1 | F14: 65歳以上 | G14: 4 | H14: 不明
A15: 職業 | B15: 自営業 | D15: 会社員 | E15: 5 | F15: 公務員 | H15: 主婦
B16: 無職 | C16: 3 | D16: その他 | F16: 不明 | G16: 1
A18: ③回答集計
A19: 質問の内容 | D19: 知っていた | E19: 知らなかった | I19: 未回答
A20: 指定管理者制度の導入について | D20: 3 | E20: 5 | I20: 1
D21: 満足 | E21: やや満足 | F21: どちらとも いえない | G21: やや不満 | H21: 不満 | I21: 未回答
A22: 個人情報・プライバシーへの配慮について | D22: 5 | F22: 3 | I22: 1
A23: 夜間休日等の緊急事態対応について | D23: 2 | E23: 1 | F23: 3 | I23: 3
A24: 電話・窓口対応について | D24: 3 | E24: 1 | F24: 3 | I24: 2
A25: 修繕必要時の対応について | D25: 3 | E25: 2 | G25: 2 | H25: 2
A26: 修繕工事の施工状況について | D26: 2 | E26: 3 | F26: 2 | G26: 1 | I26: 1
A27: 建物の維持管理状況について | D27: 2 | E27: 1 | F27: 3 | G27: 1 | H27: 1 | I27: 1
A28: 共同施設の管理状況について | E28: 2 | F28: 2 | H28: 1 | I28: 4
A29: 維持管理以外の対応について | D29: 2 | F29: 4 | H29: 1 | I29: 2
A30: 指定管理者の全般的な管理状況について | D30: 2 | E30: 1 | F30: 2 | I30: 4
A31: 合計（件） | D31: =SUM(D22:D30) -> 21 | E31: =SUM(E22:E30) -> 11 | F31: =SUM(F22:F30) -> 22 | G31: =SUM(G22:G30) -> 4 | H31: =SUM(H22:H30) -> 5 | I31: =SUM(I22:I30) -> 18
A32: 割合（％） | D32: =IF(D31=0,"",ROUNDDOWN(D31/SUM($D$31:$H$31)*100,1)) -> 33.3 | E32: =IF(E31=0,"",ROUNDDOWN(E31/SUM($D$31:$H$31)*100,1)) -> 17.4 | F32: =IF(F31=0,"",ROUNDDOWN(F31/SUM($D$31:$H$31)*100,1)) -> 34.9 | G32: =IF(G31=0,"",ROUNDDOWN(G31/SUM($D$31:$H$31)*100,1)) -> 6.3 | H32: =IF(H31=0,"",ROUNDDOWN(H31/SUM($D$31:$H$31)*100,1)) -> 7.9

Sheet 名寄
A1: =総計!A1 -> ○令和６年度道営住宅指定管理者満足度調査実施結果
A3: ①指定管理者
A4: 地区名 | B4: 名寄市
A5: 指定管理者 | B5: 名寄市
A6: 管理戸数 | B6: 147
A8: ②モニタリング回答者等
A9: 調査対象者 | B9: 30
A10: 全回答者数 | B10: =#REF! -> #REF!
A12: 性別 | B12: 男性 | C12: 8 | D12: 女性 | E12: 9 | F12: 不選択 | H12: 不明
A13: 年齢 | B13: 20歳未満 | D13: 20～29歳 | F13: 30～39歳 | G13: 2 | H13: 40～49歳 | I13: 2
B14: 50～59歳 | C14: 4 | D14: 60～64歳 | E14: 1 | F14: 65歳以上 | G14: 8 | H14: 不明
A15: 職業 | B15: 自営業 | C15: 1 | D15: 会社員 | E15: 6 | F15: 公務員 | G15: 1 | H15: 主婦 | I15: 1
B16: 無職 | C16: 5 | D16: その他 | E16: 3 | F16: 不明
A18: ③回答集計
A19: 質問の内容 | D19: 知っていた | E19: 知らなかった | I19: 未回答
A20: 指定管理者制度の導入について | D20: 16 | E20: 1
D21: 満足 | E21: やや満足 | F21: どちらとも いえない | G21: やや不満 | H21: 不満 | I21: 未回答
A22: 個人情報・プライバシーへの配慮について | D22: 7 | E22: 5 | F22: 5
A23: 夜間休日等の緊急事態対応について | D23: 3 | E23: 5 | F23: 6 | G23: 1 | H23: 2
A24: 電話・窓口対応について | D24: 6 | E24: 5 | F24: 6
A25: 修繕必要時の対応について | D25: 7 | E25: 4 | F25: 4 | G25: 1 | H25: 1
A26: 修繕工事の施工状況について | D26: 5 | E26: 6 | F26: 4 | G26: 2
A27: 建物の維持管理状況について | D27: 4 | E27: 3 | F27: 8 | G27: 1 | H27: 1
A28: 共同施設の管理状況について | D28: 5 | E28: 3 | F28: 7 | G28: 1 | I28: 1
A29: 維持管理以外の対応について | D29: 5 | E29: 5 | F29: 6 | I29: 1
A30: 指定管理者の全般的な管理状況について | D30: 4 | E30: 6 | F30: 7
A31: 合計（件） | D31: =SUM(D22:D30) -> 46 | E31: =SUM(E22:E30) -> 42 | F31: =SUM(F22:F30) -> 53 | G31: =SUM(G22:G30) -> 6 | H31: =SUM(H22:H30) -> 4 | I31: =SUM(I22:I30) -> 2
A32: 割合（％） | D32: =IF(D31=0,"",ROUNDDOWN(D31/SUM($D$31:$H$31)*100,1)) -> 30.4 | E32: =IF(E31=0,"",ROUNDDOWN(E31/SUM($D$31:$H$31)*100,1)) -> 27.8 | F32: =IF(F31=0,"",ROUNDDOWN(F31/SUM($D$31:$H$31)*100,1)) -> 35 | G32: =IF(G31=0,"",ROUNDDOWN(G31/SUM($D$31:$H$31)*100,1)) -> 3.9 | H32: =IF(H31=0,"",ROUNDDOWN(H31/SUM($D$31:$H$31)*100,1)) -> 2.6

Sheet 苫前
A1: =総計!A1 -> ○令和６年度道営住宅指定管理者満足度調査実施結果
A3: ①指定管理者
A4: 地区名 | B4: 苫前町
A5: 指定管理者 | B5: 苫前町
A6: 管理戸数 | B6: 36
A8: ②モニタリング回答者等
A9: 調査対象者 | B9: 17
A10: 全回答者数 | B10: =SUM(C12,E12,G12) -> 11
A12: 性別 | B12: 男性 | C12: 5 | D12: 女性 | E12: 5 | F12: 不選択 | G12: 1 | H12: 不明
A13: 年齢 | B13: 20歳未満 | D13: 20～29歳 | F13: 30～39歳 | H13: 40～49歳 | I13: 6
B14: 50～59歳 | C14: 2 | D14: 60～64歳 | F14: 65歳以上 | G14: 3 | H14: 不明
A15: 職業 | B15: 自営業 | C15: 1 | D15: 会社員 | E15: 5 | F15: 公務員 | H15: 主婦 | I15: 1
B16: 無職 | C16: 1 | D16: その他 | E16: 3 | F16: 不明
A18: ③回答集計
A19: 質問の内容 | D19: 知っていた | E19: 知らなかった | I19: 未回答
A20: 指定管理者制度の導入について | D20: 8 | E20: 3
D21: 満足 | E21: やや満足 | F21: どちらとも いえない | G21: やや不満 | H21: 不満 | I21: 未回答
A22: 個人情報・プライバシーへの配慮について | D22: 2 | E22: 7 | F22: 2
A23: 夜間休日等の緊急事態対応について | D23: 3 | E23: 2 | F23: 6
A24: 電話・窓口対応について | D24: 2 | E24: 4 | F24: 5
A25: 修繕必要時の対応について | D25: 1 | E25: 6 | F25: 2 | I25: 2
A26: 修繕工事の施工状況について | D26: 1 | E26: 6 | F26: 2 | I26: 2
A27: 建物の維持管理状況について | E27: 2 | F27: 5 | G27: 2 | I27: 2
A28: 共同施設の管理状況について | E28: 4 | F28: 4 | G28: 1 | I28: 2
A29: 維持管理以外の対応について | E29: 3 | F29: 5 | G29: 1 | I29: 2
A30: 指定管理者の全般的な管理状況について | E30: 3 | F30: 5 | G30: 1 | I30: 2
A31: 合計（件） | D31: =SUM(D22:D30) -> 9 | E31: =SUM(E22:E30) -> 37 | F31: =SUM(F22:F30) -> 36 | G31: =SUM(G22:G30) -> 5 | H31: =SUM(H22:H30) -> 0 | I31: =SUM(I22:I30) -> 12
A32: 割合（％） | D32: =IF(D31=0,"",ROUNDDOWN(D31/SUM($D$31:$H$31)*100,1)) -> 10.3 | E32: =IF(E31=0,"",ROUNDDOWN(E31/SUM($D$31:$H$31)*100,1)) -> 42.5 | F32: =IF(F31=0,"",ROUNDDOWN(F31/SUM($D$31:$H$31)*100,1)) -> 41.3 | G32: =IF(G31=0,"",ROUNDDOWN(G31/SUM($D$31:$H$31)*100,1)) -> 5.7 | H32: =IF(H31=0,"",ROUNDDOWN(H31/SUM($D$31:$H$31)*100,1))

Sheet 紋別
A1: =総計!A1 -> ○令和６年度道営住宅指定管理者満足度調査実施結果
A3: ①指定管理者
A4: 地区名 | B4: 紋別市
A5: 指定管理者 | B5: 紋別市
A6: 管理戸数 | B6: 105
A8: ②モニタリング回答者等
A9: 調査対象者 | B9: 20
A10: 全回答者数 | B10: =#REF! -> #REF!
A12: 性別 | B12: 男性 | C12: 3 | D12: 女性 | E12: 5 | F12: 不選択 | H12: 不明
A13: 年齢 | B13: 20歳未満 | D13: 20～29歳 | F13: 30～39歳 | H13: 40～49歳
B14: 50～59歳 | C14: 5 | D14: 60～64歳 | F14: 65歳以上 | G14: 3 | H14: 不明
A15: 職業 | B15: 自営業 | D15: 会社員 | E15: 4 | F15: 公務員 | H15: 主婦
B16: 無職 | C16: 2 | D16: その他 | E16: 2 | F16: 不明
A18: ③回答集計
A19: 質問の内容 | D19: 知っていた | E19: 知らなかった | I19: 未回答
A20: 指定管理者制度の導入について | D20: 5 | E20: 3
D21: 満足 | E21: やや満足 | F21: どちらとも いえない | G21: やや不満 | H21: 不満 | I21: 未回答
A22: 個人情報・プライバシーへの配慮について | D22: 0 | E22: 4 | F22: 4 | G22: 0 | H22: 0 | I22: 0
A23: 夜間休日等の緊急事態対応について | D23: 2 | E23: 3 | F23: 3 | G23: 0 | H23: 0 | I23: 0
A24: 電話・窓口対応について | D24: 3 | E24: 4 | F24: 1 | G24: 0 | H24: 0 | I24: 0
A25: 修繕必要時の対応について | D25: 2 | E25: 2 | F25: 3 | G25: 0 | H25: 0 | I25: 1
A26: 修繕工事の施工状況について | D26: 3 | E26: 1 | F26: 3 | G26: 0 | H26: 0 | I26: 1
A27: 建物の維持管理状況について | D27: 0 | E27: 1 | F27: 4 | G27: 1 | H27: 1 | I27: 1
A28: 共同施設の管理状況について | D28: 0 | E28: 1 | F28: 4 | G28: 1 | H28: 1 | I28: 1
A29: 維持管理以外の対応について | D29: 0 | E29: 1 | F29: 5 | G29: 1 | H29: 0 | I29: 1
A30: 指定管理者の全般的な管理状況について | D30: 0 | E30: 2 | F30: 4 | G30: 0 | H30: 1 | I30: 1
A31: 合計（件） | D31: =SUM(D22:D30) -> 10 | E31: =SUM(E22:E30) -> 19 | F31: =SUM(F22:F30) -> 31 | G31: =SUM(G22:G30) -> 3 | H31: =SUM(H22:H30) -> 3 | I31: =SUM(I22:I30) -> 6
A32: 割合（％） | D32: =IF(D31=0,"",ROUNDDOWN(D31/SUM($D$31:$H$31)*100,1)) -> 15.1 | E32: =IF(E31=0,"",ROUNDDOWN(E31/SUM($D$31:$H$31)*100,1)) -> 28.7 | F32: =IF(F31=0,"",ROUNDDOWN(F31/SUM($D$31:$H$31)*100,1)) -> 46.9 | G32: =IF(G31=0,"",ROUNDDOWN(G31/SUM($D$31:$H$31)*100,1)) -> 4.5 | H32: =IF(H31=0,"",ROUNDDOWN(H31/SUM($D$31:$H$31)*100,1)) -> 4.5

Sheet 遠軽
A1: =総計!A1 -> ○令和６年度道営住宅指定管理者満足度調査実施結果
A3: ①指定管理者
A4: 地区名 | B4: 遠軽町
A5: 指定管理者 | B5: 遠軽町
A6: 管理戸数 | B6: 46
A8: ②モニタリング回答者等
A9: 調査対象者 | B9: 20
A10: 全回答者数 | B10: =#REF! -> #REF!
A12: 性別 | B12: 男性 | C12: 1 | D12: 女性 | E12: 8 | F12: 不選択 | H12: 不明
A13: 年齢 | B13: 20歳未満 | D13: 20～29歳 | F13: 30～39歳 | G13: 1 | H13: 40～49歳 | I13: 1
B14: 50～59歳 | C14: 2 | D14: 60～64歳 | F14: 65歳以上 | G14: 5 | H14: 不明
A15: 職業 | B15: 自営業 | D15: 会社員 | E15: 4 | F15: 公務員 | H15: 主婦
B16: 無職 | C16: 4 | D16: その他 | E16: 1 | F16: 不明
A18: ③回答集計
A19: 質問の内容 | D19: 知っていた | E19: 知らなかった | I19: 未回答
A20: 指定管理者制度の導入について | D20: 4 | E20: 4 | I20: 1
D21: 満足 | E21: やや満足 | F21: どちらとも いえない | G21: やや不満 | H21: 不満 | I21: 未回答
A22: 個人情報・プライバシーへの配慮について | D22: 0 | E22: 3 | F22: 5 | G22: 0 | H22: 0 | I22: 1
A23: 夜間休日等の緊急事態対応について | D23: 0 | E23: 2 | F23: 6 | G23: 0 | H23: 0 | I23: 1
A24: 電話・窓口対応について | D24: 1 | E24: 3 | F24: 4 | G24: 0 | H24: 0 | I24: 1
A25: 修繕必要時の対応について | D25: 2 | E25: 4 | F25: 2 | G25: 0 | H25: 0 | I25: 1
A26: 修繕工事の施工状況について | D26: 2 | E26: 2 | F26: 4 | G26: 0 | H26: 0 | I26: 1
A27: 建物の維持管理状況について | D27: 1 | E27: 2 | F27: 2 | G27: 3 | H27: 0 | I27: 1
A28: 共同施設の管理状況について | D28: 0 | E28: 1 | F28: 5 | G28: 0 | H28: 0 | I28: 3
A29: 維持管理以外の対応について | D29: 0 | E29: 1 | F29: 7 | G29: 0 | H29: 0 | I29: 1
A30: 指定管理者の全般的な管理状況について | D30: 1 | E30: 2 | F30: 4 | G30: 1 | H30: 0 | I30: 1
A31: 合計（件） | D31: =SUM(D22:D30) -> 7 | E31: =SUM(E22:E30) -> 20 | F31: =SUM(F22:F30) -> 39 | G31: =SUM(G22:G30) -> 4 | H31: =SUM(H22:H30) -> 0 | I31: =SUM(I22:I30) -> 11
A32: 割合（％） | D32: =IF(D31=0,"",ROUNDDOWN(D31/SUM($D$31:$H$31)*100,1)) -> 10 | E32: =IF(E31=0,"",ROUNDDOWN(E31/SUM($D$31:$H$31)*100,1)) -> 28.5 | F32: =IF(F31=0,"",ROUNDDOWN(F31/SUM($D$31:$H$31)*100,1)) -> 55.7 | G32: =IF(G31=0,"",ROUNDDOWN(G31/SUM($D$31:$H$31)*100,1)) -> 5.7 | H32: =IF(H31=0,"",ROUNDDOWN(H31/SUM($D$31:$H$31)*100,1))
